BEGIN:VCALENDAR
PRODID:NingEventWidget-v1
VERSION:2.0
METHOD:PUBLISH
BEGIN:VTIMEZONE
TZID:America/Los_Angeles
X-LIC-LOCATION:America/Los_Angeles
BEGIN:DAYLIGHT
TZOFFSETFROM:-0800
TZOFFSETTO:-0700
TZNAME:PDT
DTSTART:19700308T020000
RRULE:FREQ=YEARLY;BYMONTH=3;BYDAY=2SU
END:DAYLIGHT
BEGIN:STANDARD
TZOFFSETFROM:-0700
TZOFFSETTO:-0800
TZNAME:PST
DTSTART:19701101T020000
RRULE:FREQ=YEARLY;BYMONTH=11;BYDAY=1SU
END:STANDARD
END:VTIMEZONE
BEGIN:VEVENT
UID:1464587:Event:615188
DTSTAMP:20260420T214916Z
SUMMARY:SoulHOUSE Redux! First event of 2015
DESCRIPTION:SoulHOUSE Redux!  Chad Mitchell, Roam Recordings  Duserock
 , duserock.com   Sergio Fedasz, Go BANG! | The SyntheTigers | Moulton 
   Kimmy le funk, WERD  SoulHOUSE returns to Mercer!!! Soul, Funk, Disc
 o and Deep Soulful HOUSE! New Quarterly Event!  Break out those bells 
 if you got em! Bell Bottoms that is!  Accessories by Mixerfriendly Clo
 thing  Early bird price $7 here: https://www.eventbrite.com/e/soulhous
 e-redux-tickets-15894079620  Also excited to have some great old frien
 ds in town for this one including Heidi Whitford (Miami), Joshua Domin
 ati (NYC) and Gerard Bartolome (L.A.)!!!  Mercer 255 Rhode Island Stre
 et 930pm to 2am, 21+ Free before 1030 with facebook yes reply $10 othe
 rwise and after $15 after 1130pm  This is my first time going out sinc
 e NYE so I'm happy to be back out and about in the nightlife of SF! If
  you'll recall the last SoulHOUSE that happened was the last one at su
 pperclub back in November of 2014 so we've had a good break and have s
 ome great talent to keep you dancing all night!!!  Flyer by danielschw
 artz.com\n\n\nFor more information visit http://trueskool.com/events/s
 oulhouse-redux-first-event-of-2015
DTSTART;TZID=America/Los_Angeles:20150306T213000
DTEND;TZID=America/Los_Angeles:20150307T020000
CATEGORIES:san, francisco
LOCATION:San Francisco, CA
WEBSITE:
URL:
CONTACT:
ORGANIZER;CN="Keyatta Shade":http://trueskool.com/profile/KeyattaShade
ATTACH;FMTTYPE="image/jpeg":http://storage.ning.com/topology/rest/1.0/
 file/get/2247974254?profile=original
ATTENDEE;ROLE=REQ-PARTICIPANT;PARTSTAT=ACCEPTED;RSVP=TRUE;CN="Keyatta 
 Shade":http://trueskool.com/profile/KeyattaShade
END:VEVENT
END:VCALENDAR
