BEGIN:VCALENDAR
PRODID:NingEventWidget-v1
VERSION:2.0
METHOD:PUBLISH
BEGIN:VTIMEZONE
TZID:America/Los_Angeles
X-LIC-LOCATION:America/Los_Angeles
BEGIN:DAYLIGHT
TZOFFSETFROM:-0800
TZOFFSETTO:-0700
TZNAME:PDT
DTSTART:19700308T020000
RRULE:FREQ=YEARLY;BYMONTH=3;BYDAY=2SU
END:DAYLIGHT
BEGIN:STANDARD
TZOFFSETFROM:-0700
TZOFFSETTO:-0800
TZNAME:PST
DTSTART:19701101T020000
RRULE:FREQ=YEARLY;BYMONTH=11;BYDAY=1SU
END:STANDARD
END:VTIMEZONE
BEGIN:VEVENT
UID:1464587:Event:661742
DTSTAMP:20260421T024404Z
SUMMARY:SOUL SLAM SF XII: PRINCE & MICHAEL JACKSON
DESCRIPTION:SF’s annual dance tradition SOUL SLAM SF: Prince & Micha
 el Jackson kicks off summer on Saturday, June 10th at Mezzanine. Globe
 trotting superstar disc jockey, DJ Spinna, headlines the twelfth insta
 llment of this epic dance party featuring the music of Prince & Michae
 l Jackson’s essential compositions, covers, and goodies. King Most, 
 special guest DJs, Constellations: Wonway, heyLove* & Nina Sol & host 
 Hakobo will set the mood and build the anticipation for what is set to
  be another amazing Soul Slam!\n\nFeaturing DJ SPINNA (NYC)\n\n\n\n
 For more information visit http://trueskool.com/events/soul-slam-sf-xi
 i-prince-michael-jackson
DTSTART;TZID=America/Los_Angeles:20170610T210000
DTEND;TZID=America/Los_Angeles:20170611T040000
CATEGORIES:"san francisco", "bay area"
LOCATION:Mezzanine, San Francisco
WEBSITE:http://bit.ly/2qcup3t
URL:http://bit.ly/2qcup3t
CONTACT:4156258880
ORGANIZER;CN=MezzanineSF:http://trueskool.com/profile/MezzanineSF
ATTACH;FMTTYPE="image/jpeg":http://storage.ning.com/topology/rest/1.0/
 file/get/2247995670?profile=original
ATTENDEE;ROLE=REQ-PARTICIPANT;PARTSTAT=ACCEPTED;RSVP=TRUE;CN=Mezzanine
 SF:http://trueskool.com/profile/MezzanineSF
END:VEVENT
END:VCALENDAR
