BEGIN:VCALENDAR
PRODID:NingEventWidget-v1
VERSION:2.0
METHOD:PUBLISH
BEGIN:VTIMEZONE
TZID:America/Los_Angeles
X-LIC-LOCATION:America/Los_Angeles
BEGIN:DAYLIGHT
TZOFFSETFROM:-0800
TZOFFSETTO:-0700
TZNAME:PDT
DTSTART:19700308T020000
RRULE:FREQ=YEARLY;BYMONTH=3;BYDAY=2SU
END:DAYLIGHT
BEGIN:STANDARD
TZOFFSETFROM:-0700
TZOFFSETTO:-0800
TZNAME:PST
DTSTART:19701101T020000
RRULE:FREQ=YEARLY;BYMONTH=11;BYDAY=1SU
END:STANDARD
END:VTIMEZONE
BEGIN:VEVENT
UID:1464587:Event:662408
DTSTAMP:20260421T054301Z
SUMMARY:Soul Slam SF XII: Prince & Michael Jackson
DESCRIPTION:\nSaturday, June 10, 2017\nfresco & KeiStar present SOUL S
 LAM SF XII: PRINCE & MICHAEL JACKSON \nSF’s annual dance tradition
  SOUL SLAM SF: Prince & Michael Jackson kicks off summer on Saturday, 
 June 10th at Mezzanine. Globetrotting superstar disc jockey, DJ Spinna
 , headlines the twelfth installment of this epic dance party featuring
  the music of Prince & Michael Jackson’s essential compositions, cov
 ers, and goodies. King Most, special guest DJs, Constellations: Wonway
 , heyLove* & Nina Sol & host Hakobo will set the mood and build the an
 ticipation for what is set to be another amazing Soul Slam!\nFeaturing
  DJ SPINNA (NYC)\n\nAlong with\nKING MOST\nGuest DJs Constellations: H
 eyLOVE*, WONWAY, NINA SOL\n\nHosted By \nHAKOBO\nMezzanine 444 Jessie 
 St. San Francisco\n21+ | 9pm - 4am | Vibes Early, Dance Late!\n>> BUY 
 TICKETS\n\nBottle Service  415.625.8880 -or- bottleservice@mezzaninesf
 .com\n\nABOUT SOUL SLAM SOUL SLAM centers around a battle between two 
 of the most eclectic and innovative artists to date, Michael Jackson a
 nd Prince! From the inception of this concept back in 1999 the respons
 e for SOUL SLAM has been enormous. This event turns into a DJ battle w
 ith one DJ, DJ Spinna and an audience of hardcore MJ and Prince fans. 
 DJ Spinna sets the tone of this event as he lays down track after trac
 k from both MJ’s and Princes extensive music catalogues along with t
 racks of their cohorts, ie; Jermaine Jackson, Vanity, Janet, Sheila E.
 , Jackson 5, The Time etc.\nDJ Spinna Arguably one of the world's best
  DJs, DJ Spinna is also one of the most respected producers transcendi
 ng genres. As one of the top producers in the house scene he has remix
 ed Stevie Wonder, Black Coffee, Shaun Escoffery, Karizma & Kenny Dope;
  as one of Hip-Hop’s revered producers he’s responsible for the un
 derground classic \"Tribute to Dilla\" single with Phonte of Little Br
 other; and as a heavyweight in the world of Soul he compiled the \"Won
 der of Stevie\" with Bobbito, which turned a new generation on to the 
 music of Stevie Wonder. To boot, their \"Wonder-full\" party became so
  well known and loved it attracted Stevie himself (!!). Along with Kei
 star he also created \"Soul Slam\" - the Prince vs. Michael Jackson pa
 rty to end all Prince vs. Michael Jackson parties! There are very few 
 other DJs in the world that can claim the “Triple Crown” rep as a 
 producer, DJ, and brand creator, which is why many consider Spinna to 
 be #1.\n\nFor more information visit http://trueskool.com/events/soul-
 slam-sf-xii-prince-michael-jackson-1
DTSTART;TZID=America/Los_Angeles:20170610T210000
DTEND;TZID=America/Los_Angeles:20170611T040000
CATEGORIES:"san francisco", "bay area"
LOCATION:Mezzanine, San Francisco
WEBSITE:https://soulslamsfxiiatmezzanine.eventbrite.com/?aff=trueskool
URL:https://soulslamsfxiiatmezzanine.eventbrite.com/?aff=trueskool
CONTACT:
ORGANIZER;CN="Hakobo fresco":http://trueskool.com/profile/Hakobo
ATTACH;FMTTYPE="image/jpeg":http://storage.ning.com/topology/rest/1.0/
 file/get/2247996506?profile=original
ATTENDEE;ROLE=REQ-PARTICIPANT;PARTSTAT=ACCEPTED;RSVP=TRUE;CN="Hakobo f
 resco":http://trueskool.com/profile/Hakobo
END:VEVENT
END:VCALENDAR
