BEGIN:VCALENDAR
PRODID:NingEventWidget-v1
VERSION:2.0
METHOD:PUBLISH
BEGIN:VTIMEZONE
TZID:America/Los_Angeles
X-LIC-LOCATION:America/Los_Angeles
BEGIN:DAYLIGHT
TZOFFSETFROM:-0800
TZOFFSETTO:-0700
TZNAME:PDT
DTSTART:19700308T020000
RRULE:FREQ=YEARLY;BYMONTH=3;BYDAY=2SU
END:DAYLIGHT
BEGIN:STANDARD
TZOFFSETFROM:-0700
TZOFFSETTO:-0800
TZNAME:PST
DTSTART:19701101T020000
RRULE:FREQ=YEARLY;BYMONTH=11;BYDAY=1SU
END:STANDARD
END:VTIMEZONE
BEGIN:VEVENT
UID:1464587:Event:676462
DTSTAMP:20260420T201733Z
SUMMARY:SOUL SLAM SF: PRINCE &amp; MICHAEL JACKSON TRIBUT
DESCRIPTION:Saturday, July 14th, 2018 Massive Selector and Keistar pre
 sent  SOUL SLAM SF: PRINCE & MICHAEL JACKSON @ Mezzanine, 444 Jessie S
 t., San Francisco 21+ | 9:00PM-4:00AM | $25  The Bay Area's annual tra
 dition SOUL SLAM SF: PRINCE & MICHAEL JACKSON kicks off summer on Satu
 rday, July 14th at Mezzanine. Globetrotting superstar disc jockey, DJ 
 Spinna, headlines this epic dance party featuring the music of The Pur
 ple One & The King Of Pop’s essential compositions, covers, and good
 ies.  Starring DJ SPINNA (NYC)  Opening Sets PROOF KING MOST  Supporte
 d by MATATU  Bottle Service 415.625.8880 bottleservice@mezzaninesf.com
   --  ABOUT SOUL SLAM SOUL SLAM centers around a battle between two of
  the most eclectic and innovative artists to date, Michael Jackson and
  Prince! From the inception of this concept back in 1999 the response 
 for SOUL SLAM has been enormous. This event turns into a DJ battle wit
 h one DJ, DJ Spinna and an audience of hardcore MJ and Prince fans. DJ
  Spinna sets the tone of this event as he lays down track after track 
 from both MJ’s and Princes extensive music catalogues along with tra
 cks of their cohorts, ie; Jermaine Jackson, Vanity, Janet, Sheila E., 
 Jackson 5, The Time etc.  ABOUT DJ SPINNA Arguably one of the world's 
 best DJs, DJ Spinna is also one of the most respected producers transc
 ending genres. As one of the top producers in the house scene he has r
 emixed Stevie Wonder, Black Coffee, Shaun Escoffery, Karizma & Kenny D
 ope; as one of Hip-Hop’s revered producers he’s responsible for th
 e underground classic \"Tribute to Dilla\" single with Phonte of Littl
 e Brother; and as a heavyweight in the world of Soul he compiled the \
 "Wonder of Stevie\" with Bobbito, which turned a new generation on to 
 the music of Stevie Wonder. To boot, their \"Wonder-full\" party becam
 e so well known and loved it attracted Stevie himself (!!). Along with
  Keistar he also created \"Soul Slam\" - the Prince vs. Michael Jackso
 n party to end all Prince vs. Michael Jackson parties! There are very 
 few other DJs in the world that can claim the “Triple Crown” rep a
 s a producer, DJ, and brand creator, which is why many consider Spinna
  to be #1.\n\nFor more information visit http://trueskool.com/events/s
 oul-slam-sf-prince-amp-michael-jackson-tribut
DTSTART;TZID=America/Los_Angeles:20180714T210000
DTEND;TZID=America/Los_Angeles:20180715T040000
CATEGORIES:san, francisco, prince, michael, jackson, dj, spinna, bay, 
 area
LOCATION:Mezzanine, San Francisco
WEBSITE:http://bit.ly/soulslamms
URL:http://bit.ly/soulslamms
CONTACT:16507593147
ORGANIZER;CN=marky:http://trueskool.com/profile/marky
ATTACH;FMTTYPE="image/jpeg":
ATTENDEE;ROLE=REQ-PARTICIPANT;PARTSTAT=ACCEPTED;RSVP=TRUE;CN=marky:htt
 p://trueskool.com/profile/marky
END:VEVENT
END:VCALENDAR
