BEGIN:VCALENDAR
PRODID:NingEventWidget-v1
VERSION:2.0
METHOD:PUBLISH
BEGIN:VTIMEZONE
TZID:America/Los_Angeles
X-LIC-LOCATION:America/Los_Angeles
BEGIN:DAYLIGHT
TZOFFSETFROM:-0800
TZOFFSETTO:-0700
TZNAME:PDT
DTSTART:19700308T020000
RRULE:FREQ=YEARLY;BYMONTH=3;BYDAY=2SU
END:DAYLIGHT
BEGIN:STANDARD
TZOFFSETFROM:-0700
TZOFFSETTO:-0800
TZNAME:PST
DTSTART:19701101T020000
RRULE:FREQ=YEARLY;BYMONTH=11;BYDAY=1SU
END:STANDARD
END:VTIMEZONE
BEGIN:VEVENT
UID:1464587:Event:120928
DTSTAMP:20260420T102919Z
SUMMARY:Soul Presents: \"Pirated Midsummer Nights Dream\"
DESCRIPTION:Soul Presents: \"Pirated Midsummer Nights Dream\"\n# 8 in 
 a series...June-2 Saturday 9:00pm\nRevolution Cafe 1612 7th.St. West O
 akland,Ca....\nCome enjoy a night of Merriment,Revelry and Love!!!\nAw
 esome Artist and Bands Performing,Vendor Booths,Raffle for Prizes and 
 more...\nDJing; Jason and DJ Bobby...Sound: 12oclock Audio\n$5.00 dona
 tion at door...Green Friendly...\nDoors open 8:00pm, Show starts 9:00p
 m\nWe are Alive N Well in the Lower Bottoms/Flatlands of Beautiful Wes
 t Oakland,Ca...We welcome All People from the \"BayArea\",\"San Franci
 sco\",and Beyond...\n\nFor more information visit http://trueskool.com
 /events/soul-presents-pirated-midsummer-nights-dream
DTSTART;TZID=America/Los_Angeles:20120602T210000
DTEND;TZID=America/Los_Angeles:20120603T010000
CATEGORIES:"west oakland", "east bay", "ca."
LOCATION:Revolution Cafe
WEBSITE:http://Tickets at door...FaceBook Revolution Cafe for Info....
URL:http://Tickets at door...FaceBook Revolution Cafe for Info....
CONTACT:xxxxxxxxxxxx
ORGANIZER;CN=Soul:http://trueskool.com/profile/Soul206
ATTACH;FMTTYPE="image/jpeg":http://storage.ning.com/topology/rest/1.0/
 file/get/2247915842?profile=original
ATTENDEE;ROLE=REQ-PARTICIPANT;PARTSTAT=ACCEPTED;RSVP=TRUE;CN=Soul:http
 ://trueskool.com/profile/Soul206
END:VEVENT
END:VCALENDAR
