BEGIN:VCALENDAR
PRODID:NingEventWidget-v1
VERSION:2.0
METHOD:PUBLISH
BEGIN:VTIMEZONE
TZID:America/Los_Angeles
X-LIC-LOCATION:America/Los_Angeles
BEGIN:DAYLIGHT
TZOFFSETFROM:-0800
TZOFFSETTO:-0700
TZNAME:PDT
DTSTART:19700308T020000
RRULE:FREQ=YEARLY;BYMONTH=3;BYDAY=2SU
END:DAYLIGHT
BEGIN:STANDARD
TZOFFSETFROM:-0700
TZOFFSETTO:-0800
TZNAME:PST
DTSTART:19701101T020000
RRULE:FREQ=YEARLY;BYMONTH=11;BYDAY=1SU
END:STANDARD
END:VTIMEZONE
BEGIN:VEVENT
UID:1464587:Event:334408
DTSTAMP:20260421T070354Z
SUMMARY:Solomun (Diynamic Germany) SF Debut at Monarch
DESCRIPTION:Solomun (DIYNAMIC) w/ Dj M3 / Shiny Objects / Jaime Jame
 s\nLimited tickets: http://ticketf.ly/1dUPTV2Solomun has played a maj
 or role in redefining European House Music, with productions, remixes 
 and stand-out DJ sets that take the very building blocks of House and 
 sensitively reconstruct them: adding a fresh, ultramodern twist to th
 e genre.“Music is Moments.” Solomun.A well-respected underground p
 roducer for a number of years, he regularly hits the top spot of reade
 rs’ polls in music industry magazines - confirming his measure in ev
 ery important category. His stratospheric rise in popularity kicked o
 ff in 2012, after a legendary first season on Ibiza with his own label
 -inspired Diynamic Neon Nights at Sankeys. Here, he and his crew took
  up the challenge and initiated a take-over of what was becoming a cli
 chéd scene. This first assault on the White Island brought Solomun hi
 s just-rewards in the shape of Best Producer title at the DJ Awards Ib
 iza and DJ of the Year from Mixmag Magazine. It follows that “Neon N
 ights” will continue at Sankeys again this summer, along with an own
  night every Sunday at Pacha/Ibiza “Solomun +1”. Solomun loves th
 e studio, this is clear from his output: always emotive, visceral, aut
 hentic and always promoting his reasoning that “Music is Moments”.
  That said, his passion for DJing can never be questioned by anyone wh
 o’s seen him in-action, all over the world. As head of Diynamic Musi
 c, he’s a consistent but still he’s not afraid to take the audienc
 e on a journey. It’s a sensual style where deepness, funkiness and h
 uman vocals go hand in hand.Running two successful labels (Diynamic an
 d 2DIY4), one of the most respected underground Clubs in Germany (EGO)
  and the Diynamic Radio Show (broadcast in over 30 countries), is a tr
 ue indicator of Solomun’s deep love of music and of his people. His 
 work ethic is managed in much the same way that he brings a variety of
  influences into his music: a little soft touch here, a cool dance mov
 e over there and a real, honest commitment to “Doing It Yourself”.
 \n\n \n\n\n\n\nFor more information visit http://trueskool.com/events
 /solomun-diynamic-germany-sf-debut-at-monarch
DTSTART;TZID=America/Los_Angeles:20140410T210000
DTEND;TZID=America/Los_Angeles:20140411T030000
CATEGORIES:san, francisco, house, music, disco, funk, techno, garage, 
 diynamic, green, gorilla, knights, sf
LOCATION:Monarch, San Francisco
WEBSITE:http://ticketf.ly/1dUPTV2
URL:http://ticketf.ly/1dUPTV2
CONTACT:
ORGANIZER;CN=monarchsf:http://trueskool.com/profile/monarchsf
ATTACH;FMTTYPE="image/jpeg":http://storage.ning.com/topology/rest/1.0/
 file/get/2247959112?profile=original
ATTENDEE;ROLE=REQ-PARTICIPANT;PARTSTAT=ACCEPTED;RSVP=TRUE;CN=monarchsf
 :http://trueskool.com/profile/monarchsf
END:VEVENT
END:VCALENDAR
