BEGIN:VCALENDAR
PRODID:NingEventWidget-v1
VERSION:2.0
METHOD:PUBLISH
BEGIN:VTIMEZONE
TZID:America/Los_Angeles
X-LIC-LOCATION:America/Los_Angeles
BEGIN:DAYLIGHT
TZOFFSETFROM:-0800
TZOFFSETTO:-0700
TZNAME:PDT
DTSTART:19700308T020000
RRULE:FREQ=YEARLY;BYMONTH=3;BYDAY=2SU
END:DAYLIGHT
BEGIN:STANDARD
TZOFFSETFROM:-0700
TZOFFSETTO:-0800
TZNAME:PST
DTSTART:19701101T020000
RRULE:FREQ=YEARLY;BYMONTH=11;BYDAY=1SU
END:STANDARD
END:VTIMEZONE
BEGIN:VEVENT
UID:1464587:Event:396755
DTSTAMP:20260421T033857Z
SUMMARY:Open Mike Eagle with Milo and more
DESCRIPTION:Open Mike Eagle:\n\"One of LA's smartest young voices\" sa
 ys the LA Times...which the artist suspects, may just be a covert way 
 of saying LA is dumb. \"Open\" Mike Eagle wouldnt terribly mind, being
  born and raised in Chicago where the painful winters and his uppity g
 randparents kept him inside asÂ a youth. He spent his formative years 
 watching alternative music happen on MTV and hoping to one day be able
  to audition for the Native Tongues.Â As a young adult after graduatin
 g with a degree in Psychology, he did the next best thing and moved to
  Los Angeles, joining the Project Blowed collective where he made musi
 c and toured with Busdriver, Aceyalone, Abstract Rude, Nocando and mor
 e. Heâ€™s also gained notoriety in the world of comedy by being invite
 d by professional funny people (Paul F. Tompkins, Hannibal Buress, Mat
 t Besser/UCB) to rap at their shows. Heâ€™d like to be rapâ€™s Kurt Vo
 nnegut but recognizes that heâ€™d first have to create something as ic
 onic as the four-stroke illustration of an anus. He practices by relea
 sing rap albums that delight, entertain, and confuse.\nYou can pick up
  his newest release \"Dark Comedy\" here: http://mellomusicgroup.bandc
 amp.com/album/dark-comedy http://mikeeagle.net/\n\nMilo (Rapsmith) (bi
 o from LA weekly) Twenty-two-year-old milo is one of independent rapâ€
 ™s rising stars. A recent L.A. transplant, the Chicago-bred rapperâ€™s
  introspective and intellectually stimulating songs both eschew and la
 mpoon hackneyed genre tropes; and the beats he selects are as diverse 
 and challenging as the content of his rhymes. His debut LP, a toothpas
 te suburb, drops Sept. 23 on L.A. rapper Nocandoâ€™s label Hellfyre Cl
 ub. The album features label mates Busdriver, Open Mike Eagle and Ande
 rson Paak, as well as Kool A.D., Buck 65 and WC Tank. There is also pr
 oduction from iglooghost, Tastenothing, Greyhat and Riley Lake.Â  His 
 delivery is a rhythmic style of spoken word, and he references writers
  and philosophers as much as he does '90s Nickelodeon shows, and WWF w
 restlers. Milo's music is honest and open, unpretentious and approacha
 ble. Though he'll namedrop Bertrand Russell, he's not trying to make y
 ou feel dumb, just suggesting you might like the guy's writing. In any
  case, it's not music for the passive listener. http://miloraps.com/  
 Also Performing: The Lobetrotters Collective TrevaillÃ© Too ChillÂ (St
 anley IpkussÂ + @Bayroo Burner) Lucid Optics Bottled Water  ALL AGES M
 usic starts at 6pm and show ends around 10pm $10 advance $15 at the do
 or\n\nFor more information visit http://trueskool.com/events/sole-dj-p
 ain-1-and-open-mike-eagle
DTSTART;TZID=America/Los_Angeles:20140919T173000
DTEND;TZID=America/Los_Angeles:20140919T220000
CATEGORIES:"hip hop", "san francisco", "bay area", outbound, "n judah"
LOCATION:The Honey Hive Gallery, San Francisco, CA
WEBSITE:http://honeyhivecollective.brownpapertickets.com
URL:http://honeyhivecollective.brownpapertickets.com
CONTACT:(612)888-HIVE
ORGANIZER;CN="Honey Hive Gallery":http://trueskool.com/profile/HoneyHi
 veGallery
ATTACH;FMTTYPE="image/jpeg":http://storage.ning.com/topology/rest/1.0/
 file/get/2247964164?profile=original
ATTENDEE;ROLE=REQ-PARTICIPANT;PARTSTAT=ACCEPTED;RSVP=TRUE;CN="Honey Hi
 ve Gallery":http://trueskool.com/profile/HoneyHiveGallery
END:VEVENT
END:VCALENDAR
