BEGIN:VCALENDAR
PRODID:NingEventWidget-v1
VERSION:2.0
METHOD:PUBLISH
BEGIN:VTIMEZONE
TZID:America/Los_Angeles
X-LIC-LOCATION:America/Los_Angeles
BEGIN:DAYLIGHT
TZOFFSETFROM:-0800
TZOFFSETTO:-0700
TZNAME:PDT
DTSTART:19700308T020000
RRULE:FREQ=YEARLY;BYMONTH=3;BYDAY=2SU
END:DAYLIGHT
BEGIN:STANDARD
TZOFFSETFROM:-0700
TZOFFSETTO:-0800
TZNAME:PST
DTSTART:19701101T020000
RRULE:FREQ=YEARLY;BYMONTH=11;BYDAY=1SU
END:STANDARD
END:VTIMEZONE
BEGIN:VEVENT
UID:1464587:Event:56277
DTSTAMP:20260421T033631Z
SUMMARY:SocialitePro & Adidas Presents...SO FRESH: Old School Hip Hop 
 Party!
DESCRIPTION:Socialite Promotions in collaboration with ADIDAS presents
  an exclusive Old School Hip Hop and R&B Classics party….SO FRESH…
 A Night of Old School Hip Hop and R&B Classics! Saturday, June 5th at 
 Risque Lounge in San Francisco!\n\nWe’re taking it back to the Old S
 chool once again! Bust out those Adidas jump suits and Adidas Shell to
 es sneakers with fat laces, the cross colors and Kangol bucket hats wi
 th fat gold chains!\n\nFor those of you who have been to our past SO F
 RESH parties, you know this party is one not to miss! SO FRESH will be
  strictly a night of Old School Hip Hop and R&B Classics from the late
  80’s to the early-mid 1990’s! If you grew up listening to this 
 Golden era” of Hip Hop and R&B, then you need to be at SO FRESH!\n\
 nOur DJ’s who have been tearin up the turntables for almost 2 decade
 s, will be mixing up all of the hottest tracks from artist such as:\n\
 nNaughty By Nature, Tribe Called Quest, Run DMC, AMG, Digital Undergro
 und, Beastie Boys, Pete Rock & CL Smooth, 3rd Bass, Pharcyde, Del Tha 
 Funkyhomosapien, Whodini, Grandmaster Flash, Boogie Down Productions, 
 KRS-1, Kid N Play, Soul 4 Real, Boys II Men, Audio 2, The Fat Boys, Bi
 z Markie, Slick Rick, En Vogue, LL Cool J, Sugarhill Gang, TLC, SWV, 2
 Pac, Rodeny O & Joe Cooley, Cypress Hill, Ice Cube, D Nice, Das EFX, H
 eavy D, Digable Planets, De La Soul, Kid N Play, Too Short, EPMD, Eric
  B & Rakim, Zhane, Salt N Pepa, Total, En Vogue, JJ Fad, Easy E, NWA, 
 The Fuguees, DJ Quik, Bel Biv Devoe, New Edition, Brand Nubian and the
  list goes on and on!\n\nFeaturing The Bay Area's Premier DJ’s In Th
 e Mix!\nDJ Twin Spin\nDJ Tactics\nPLUS SPECIAL GUEST DJs\n\nCome dance
  and watch some Old School Hip Hop videos and movies on a 25 foot vide
 o screen!\n\nFREE COVER w/GUESTLIST BEFORE 10:30PM! $5 Cover Until 11P
 M! Email your full names to: SoFresh@SocialitePro.com and please speci
 fy how you found out about this event!\n\nRisque Lounge is located at 
 45 Maiden Lane (Between Kearny and Grant) in San Francisco. Free stree
 t parking nearby! Open to all mature people 21 and over with valid ID 
 please. Doors open at 9:30 PM. For VIP Bottle Service or info please c
 all: (510) 996-8828 or email: info@SocialitePro.com\n\nOld School Hip 
 Hop dress apparel is preferred, but not mandatory. Sport your Adidas g
 ear! You may also choose to dress in a casual comfortable but fashiona
 ble dress attire. SNEAKERS AND KICKS ARE OK! 21 & Over w/Valid ID\n\nY
 ou can also visit our website: www.SocialitePro.com for more details!\
 n\nFor more information visit http://trueskool.com/events/socialitepro
 -adidas
DTSTART;TZID=America/Los_Angeles:20100605T220000
DTEND;TZID=America/Los_Angeles:20100606T020000
CATEGORIES:old, school, hip, hop, and, "r&b"
LOCATION:Risque Lounge, San Francisco
WEBSITE:http://www.SocialitePro.com
URL:http://www.SocialitePro.com
CONTACT:510-996-8828
ORGANIZER;CN="Socialite Promotions":http://trueskool.com/profile/Socia
 litePromotions
ATTACH;FMTTYPE="image/jpeg":http://storage.ning.com/topology/rest/1.0/
 file/get/2247883653?profile=original
ATTENDEE;ROLE=REQ-PARTICIPANT;PARTSTAT=ACCEPTED;RSVP=TRUE;CN="Socialit
 e Promotions":http://trueskool.com/profile/SocialitePromotions
END:VEVENT
END:VCALENDAR
