BEGIN:VCALENDAR
PRODID:NingEventWidget-v1
VERSION:2.0
METHOD:PUBLISH
BEGIN:VTIMEZONE
TZID:America/Los_Angeles
X-LIC-LOCATION:America/Los_Angeles
BEGIN:DAYLIGHT
TZOFFSETFROM:-0800
TZOFFSETTO:-0700
TZNAME:PDT
DTSTART:19700308T020000
RRULE:FREQ=YEARLY;BYMONTH=3;BYDAY=2SU
END:DAYLIGHT
BEGIN:STANDARD
TZOFFSETFROM:-0700
TZOFFSETTO:-0800
TZNAME:PST
DTSTART:19701101T020000
RRULE:FREQ=YEARLY;BYMONTH=11;BYDAY=1SU
END:STANDARD
END:VTIMEZONE
BEGIN:VEVENT
UID:1464587:Event:83177
DTSTAMP:20260420T134856Z
SUMMARY:SO FRESH...The Freshest Old School Hip Hop Party in the Bay!
DESCRIPTION:Socialite Promotions & ADIDAS presents an exclusive Old Sc
 hool Hip Hop and R&B Classics party….SO FRESH…A Night of Old Schoo
 l HipHop and R&B Classics!   Saturday,MAY 7TH at Risque Lounge in Sa
 nFrancisco’s Union Square District. \n \nWe’re taking it back to
  the OldSchool every month!   Bust out thoseAdidas jump suits and Ad
 idas Shell Toe sneakers with fat laces, the cross colorsand Kangol buc
 ket hats with fat gold rope chains! \n \nFor those of you who have b
 een toour past SO FRESH parties, you know this party is one not to mis
 s!   SO FRESH will be strictly a night of Old School Hip Hop and R&B
  Classics from the late 80’s to the early-mid 1990’s!   If you g
 rew up listening to this “Golden era” of Hip Hop and R&B, then you
  need to be at SO FRESHinside Risque Lounge! SO FRESH has beengoing st
 rong for almost 3 years now with no signs of stopping!\n \nOur DJ’s
  who have been tearin upthe turntables for almost 2 decades, will be m
 ixing up all of the hottest tracks from artist such as:\nNaughty By Na
 ture, TribeCalled Quest, Run DMC, AMG, Digital Underground, Beastie Bo
 ys, Pete Rock &CL Smooth, 3rd Bass, Pharcyde, Del Tha Funkyhomosapien,
  Whodini, GrandmasterFlash, Boogie Down Productions, KRS-1, Kid N Play
 , Soul 4 Real, Boys II Men,Audio 2, The Fat Boys, Biz Markie, Slick Ri
 ck, En Vogue, LL Cool J, SugarhillGang, TLC, SWV, 2Pac, Rodeny O & Joe
  Cooley, Cypress Hill, Ice Cube, DNice, Das EFX, Heavy D, Digable Plan
 ets, De La Soul, Too Short, EPMD, Eric B& Rakim, Zhane, Salt N Pepa, T
 otal, En Vogue, JJ Fad, Easy E, NWA, TheFuguees, DJ Quik, Bel Biv Devo
 e, New Edition, Brand Nubian and the list goes on and on!\n \nFeaturi
 ng The Bay Area's Premier DJ’s In The Mix!\nDJ Twin Spin (Video Mixi
 ng All TheBest Old School Music Videos!)\nDJ Tactics\n \nCome dance a
 nd watch our DJs mixthe freshest Old School Hip Hop videos and movies 
 on a 25 foot video screen!\n \nFREE COVER BEFORE 10:30PM and $5Cover 
 Until 11PM w/Guest List!   Emailyour full names to: SoFresh@Socialit
 ePro.comand please specify how you found out about this event!Risque L
 ounge is located at 45Maiden Lane (Between Kearny and Grant) in San Fr
 ancisco.   Free street parking nearby!   Open to all mature people
  21 and over withvalid ID please.   Doors open at 10:00PM.   For V
 IP Bottle Service or infoplease email: info@SocialitePro.com\n \nOld 
 School Hip Hop dress apparelis preferred, but not mandatory.   Youma
 y also choose to dress in casual comfortable but fashionable dress att
 ire.   SNEAKER AND KICKS ARE OK!   21 & Over w/Valid ID\n \nYou c
 an also visit our website: www.SocialitePro.comfor more details!\n\nFo
 r more information visit http://trueskool.com/events/so-freshthe-fresh
 est-old-3
DTSTART;TZID=America/Los_Angeles:20110507T220000
DTEND;TZID=America/Los_Angeles:20110508T140000
CATEGORIES:san, francisco, california
LOCATION:San Francisco, CA
WEBSITE:
URL:
CONTACT:925-388-6396
ORGANIZER;CN="Socialite Promotions":http://trueskool.com/profile/Socia
 litePromotions
ATTACH;FMTTYPE="image/jpeg":http://storage.ning.com/topology/rest/1.0/
 file/get/2247895198?profile=original
ATTENDEE;ROLE=REQ-PARTICIPANT;PARTSTAT=ACCEPTED;RSVP=TRUE;CN="Socialit
 e Promotions":http://trueskool.com/profile/SocialitePromotions
END:VEVENT
END:VCALENDAR
