BEGIN:VCALENDAR
PRODID:NingEventWidget-v1
VERSION:2.0
METHOD:PUBLISH
BEGIN:VTIMEZONE
TZID:America/Los_Angeles
X-LIC-LOCATION:America/Los_Angeles
BEGIN:DAYLIGHT
TZOFFSETFROM:-0800
TZOFFSETTO:-0700
TZNAME:PDT
DTSTART:19700308T020000
RRULE:FREQ=YEARLY;BYMONTH=3;BYDAY=2SU
END:DAYLIGHT
BEGIN:STANDARD
TZOFFSETFROM:-0700
TZOFFSETTO:-0800
TZNAME:PST
DTSTART:19701101T020000
RRULE:FREQ=YEARLY;BYMONTH=11;BYDAY=1SU
END:STANDARD
END:VTIMEZONE
BEGIN:VEVENT
UID:1464587:Event:675297
DTSTAMP:20260420T165920Z
SUMMARY:Snow Tha Product (WIN TICKETS)
DESCRIPTION:ENTER TO WIN A PAIR OF TICKETS. WINNER WILL BE DRAWN RANDO
 MLY AND ANNOUNCED 2 DAYS PRIOR TO EVENT.\r\n\r\n\r\nTHURSDAY, JULY 19\
 r\nSnow Tha Product  Vibe Higher Tour 2018\r\n\r\n@ Slim's, 333 11th 
 Street, San Francisco, CA 94103\r\ndoors 7pm/show 8pm\r\nTickets are
  $20 advance/$22 door \r\n>> BUY TICKETS\r\n\n\nFor more information 
 visit http://trueskool.com/events/snow-tha-product-3
DTSTART;TZID=America/Los_Angeles:20180719T190000
DTEND;TZID=America/Los_Angeles:20180719T230000
CATEGORIES:"bay area", oakland, "san francisco", "san jose", berkeley
LOCATION:Slim's, San Francisco
WEBSITE:https://www.eventbrite.com/e/snow-tha-product-slims-vibe-highe
 r-tour-2018-tickets-45005651114#tickets
URL:https://www.eventbrite.com/e/snow-tha-product-slims-vibe-higher-to
 ur-2018-tickets-45005651114#tickets
CONTACT:
ORGANIZER;CN="Editor's Pick":http://trueskool.com/profile/RentheVinylA
 rchaeologist
ATTACH;FMTTYPE="image/jpeg":http://storage.ning.com/topology/rest/1.0/
 file/get/2248007459?profile=original
ATTENDEE;ROLE=REQ-PARTICIPANT;PARTSTAT=ACCEPTED;RSVP=TRUE;CN="Editor's
  Pick":http://trueskool.com/profile/RentheVinylArchaeologist
END:VEVENT
END:VCALENDAR
