BEGIN:VCALENDAR
PRODID:NingEventWidget-v1
VERSION:2.0
METHOD:PUBLISH
BEGIN:VTIMEZONE
TZID:America/Los_Angeles
X-LIC-LOCATION:America/Los_Angeles
BEGIN:DAYLIGHT
TZOFFSETFROM:-0800
TZOFFSETTO:-0700
TZNAME:PDT
DTSTART:19700308T020000
RRULE:FREQ=YEARLY;BYMONTH=3;BYDAY=2SU
END:DAYLIGHT
BEGIN:STANDARD
TZOFFSETFROM:-0700
TZOFFSETTO:-0800
TZNAME:PST
DTSTART:19701101T020000
RRULE:FREQ=YEARLY;BYMONTH=11;BYDAY=1SU
END:STANDARD
END:VTIMEZONE
BEGIN:VEVENT
UID:1464587:Event:334465
DTSTAMP:20260421T035309Z
SUMMARY:Snoop Dogg aka Snoop Lion (WIN TICKETS)
DESCRIPTION:\n Thursday April 17, 2014 Snoop Dogg aka Snoop Lion Perfo
 rming his classic smash hits\nThe Regency Ballroom, San Francisco, CA 
 Show time: 8:00pm..Door time: 7:00pm Age: All Ages+ Tickets Available:
  Wednesday April 2, 2014 $69.50* >> BUY TICKETS\n\nFor more informatio
 n visit http://trueskool.com/events/snoop-dogg-aka-snoop-lion-win-tick
 ets
DTSTART;TZID=America/Los_Angeles:20140417T200000
DTEND;TZID=America/Los_Angeles:20140417T230000
CATEGORIES:"bay area", "san francisco"
LOCATION:The Regency Ballroom, San Francisco
WEBSITE:http://www.axs.com/events/249825/snoop-dogg-aka-snoop-lion-tic
 kets?skin=goldenvoice
URL:http://www.axs.com/events/249825/snoop-dogg-aka-snoop-lion-tickets
 ?skin=goldenvoice
CONTACT:
ORGANIZER:Goldenvoice
ATTACH;FMTTYPE="image/jpeg":http://storage.ning.com/topology/rest/1.0/
 file/get/2247959336?profile=original
ATTENDEE;ROLE=REQ-PARTICIPANT;PARTSTAT=ACCEPTED;RSVP=TRUE;CN="DJ Nobre
 ga":http://trueskool.com/profile/DJNobrega
ATTENDEE;ROLE=REQ-PARTICIPANT;PARTSTAT=ACCEPTED;RSVP=TRUE;CN="Katrina 
 Shaw":http://trueskool.com/profile/KatrinaShaw
ATTENDEE;ROLE=REQ-PARTICIPANT;PARTSTAT=ACCEPTED;RSVP=TRUE;CN="Eric Dur
 an":http://trueskool.com/profile/EricDuran
ATTENDEE;ROLE=REQ-PARTICIPANT;PARTSTAT=ACCEPTED;RSVP=TRUE;CN=Frost:htt
 p://trueskool.com/profile/Frost
ATTENDEE;ROLE=REQ-PARTICIPANT;PARTSTAT=ACCEPTED;RSVP=TRUE;CN="Camille 
 Yin":http://trueskool.com/profile/Camille
ATTENDEE;ROLE=REQ-PARTICIPANT;PARTSTAT=ACCEPTED;RSVP=TRUE;CN="Spencer 
 Thirtyacre":http://trueskool.com/profile/SpencerThirtyacre
ATTENDEE;ROLE=REQ-PARTICIPANT;PARTSTAT=ACCEPTED;RSVP=TRUE;CN="Jon Schr
 oeder":http://trueskool.com/profile/JonSchroeder
ATTENDEE;ROLE=REQ-PARTICIPANT;PARTSTAT=ACCEPTED;RSVP=TRUE;CN="Araceli 
 Argueta":http://trueskool.com/profile/AraceliArgueta
ATTENDEE;ROLE=REQ-PARTICIPANT;PARTSTAT=ACCEPTED;RSVP=TRUE;CN="Jenna Te
 kiel":http://trueskool.com/profile/JennaTekiel
ATTENDEE;ROLE=REQ-PARTICIPANT;PARTSTAT=ACCEPTED;RSVP=TRUE;CN="Mark Sas
 aki-Prather":http://trueskool.com/profile/MarkSasakiPrather
ATTENDEE;ROLE=REQ-PARTICIPANT;PARTSTAT=ACCEPTED;RSVP=TRUE;CN="Huy Hoan
 g":http://trueskool.com/profile/HuyHoang
ATTENDEE;ROLE=REQ-PARTICIPANT;PARTSTAT=ACCEPTED;RSVP=TRUE;CN="Rommel S
 alinas":http://trueskool.com/profile/RommelSalinas
ATTENDEE;ROLE=REQ-PARTICIPANT;PARTSTAT=ACCEPTED;RSVP=TRUE;CN="Melissa 
 Fiato":http://trueskool.com/profile/MelissaFiato
ATTENDEE;ROLE=REQ-PARTICIPANT;PARTSTAT=ACCEPTED;RSVP=TRUE;CN="James Mi
 chael Federighi":http://trueskool.com/profile/JamesMichaelFederighi
ATTENDEE;ROLE=REQ-PARTICIPANT;PARTSTAT=ACCEPTED;RSVP=TRUE;CN="Emo Reyn
 a":http://trueskool.com/profile/EmoReyna
ATTENDEE;ROLE=REQ-PARTICIPANT;PARTSTAT=ACCEPTED;RSVP=TRUE;CN="Joseph K
 im":http://trueskool.com/profile/JosephKim
ATTENDEE;ROLE=REQ-PARTICIPANT;PARTSTAT=ACCEPTED;RSVP=TRUE;CN="Kaleb As
 kew":http://trueskool.com/profile/KalebAskew232
ATTENDEE;ROLE=REQ-PARTICIPANT;PARTSTAT=ACCEPTED;RSVP=TRUE;CN="m.deep.m
 usic":http://trueskool.com/profile/mdeepmusic
ATTENDEE;ROLE=REQ-PARTICIPANT;PARTSTAT=ACCEPTED;RSVP=TRUE;CN="Johnny L
 iao":http://trueskool.com/profile/JohnnyLiao
ATTENDEE;ROLE=REQ-PARTICIPANT;PARTSTAT=ACCEPTED;RSVP=TRUE;CN="Donte Ha
 rrison":http://trueskool.com/profile/DonteHarrison
ATTENDEE;ROLE=REQ-PARTICIPANT;PARTSTAT=ACCEPTED;RSVP=TRUE;CN=philldfx:
 http://trueskool.com/profile/philldfx
ATTENDEE;ROLE=REQ-PARTICIPANT;PARTSTAT=ACCEPTED;RSVP=TRUE;CN="Alisha M
 orton":http://trueskool.com/profile/AlishaMorton
ATTENDEE;ROLE=REQ-PARTICIPANT;PARTSTAT=ACCEPTED;RSVP=TRUE;CN="Jacqueli
 ne Carranza":http://trueskool.com/profile/JacquelineCarranza
ATTENDEE;ROLE=REQ-PARTICIPANT;PARTSTAT=ACCEPTED;RSVP=TRUE;CN="Carolina
  Quijano":http://trueskool.com/profile/CarolinaQuijano
ATTENDEE;ROLE=REQ-PARTICIPANT;PARTSTAT=ACCEPTED;RSVP=TRUE;CN="Staff Pi
 ck":http://trueskool.com/profile/Ren
END:VEVENT
END:VCALENDAR
