BEGIN:VCALENDAR
PRODID:NingEventWidget-v1
VERSION:2.0
METHOD:PUBLISH
BEGIN:VTIMEZONE
TZID:America/Los_Angeles
X-LIC-LOCATION:America/Los_Angeles
BEGIN:DAYLIGHT
TZOFFSETFROM:-0800
TZOFFSETTO:-0700
TZNAME:PDT
DTSTART:19700308T020000
RRULE:FREQ=YEARLY;BYMONTH=3;BYDAY=2SU
END:DAYLIGHT
BEGIN:STANDARD
TZOFFSETFROM:-0700
TZOFFSETTO:-0800
TZNAME:PST
DTSTART:19701101T020000
RRULE:FREQ=YEARLY;BYMONTH=11;BYDAY=1SU
END:STANDARD
END:VTIMEZONE
BEGIN:VEVENT
UID:1464587:Event:653199
DTSTAMP:20260421T000453Z
SUMMARY:SNEAKER PIMPS
DESCRIPTION:Boost Mobile presents SNEAKER PIMPS SAN FRANCISCOPERFORMIN
 G LIVE: JAY ELECTRONICA!!! BUY-SELL-TRADELIVE MUSIC PERFORMANCES - LIV
 E ART INSTALLATIONS AND MORE!\nSaturday, August 27, 2016 from 1:00 PM 
 to 6:00 PM (PDT)Ruby Skye - 420 Mason Street, San Francisco, CA\n\nFor
  more information visit http://trueskool.com/events/sneaker-pimps
DTSTART;TZID=America/Los_Angeles:20160827T130000
DTEND;TZID=America/Los_Angeles:20160827T180000
CATEGORIES:"san francisco", oakland, berkley, "san jose", "bay area"
LOCATION:Ruby Skye, San Francisco
WEBSITE:https://www.eventbrite.com/e/sneaker-pimps-san-francisco-ft-ja
 y-electronica-tickets-26708022414?aff=social#tickets
URL:https://www.eventbrite.com/e/sneaker-pimps-san-francisco-ft-jay-el
 ectronica-tickets-26708022414?aff=social#tickets
CONTACT:
ORGANIZER;CN="Editor's Pick":http://trueskool.com/profile/RentheVinylA
 rchaeologist
ATTACH;FMTTYPE="image/jpeg":http://storage.ning.com/topology/rest/1.0/
 file/get/2247990374?profile=original
ATTENDEE;ROLE=REQ-PARTICIPANT;PARTSTAT=ACCEPTED;RSVP=TRUE;CN="Editor's
  Pick":http://trueskool.com/profile/RentheVinylArchaeologist
END:VEVENT
END:VCALENDAR
