BEGIN:VCALENDAR
PRODID:NingEventWidget-v1
VERSION:2.0
METHOD:PUBLISH
BEGIN:VTIMEZONE
TZID:America/Los_Angeles
X-LIC-LOCATION:America/Los_Angeles
BEGIN:DAYLIGHT
TZOFFSETFROM:-0800
TZOFFSETTO:-0700
TZNAME:PDT
DTSTART:19700308T020000
RRULE:FREQ=YEARLY;BYMONTH=3;BYDAY=2SU
END:DAYLIGHT
BEGIN:STANDARD
TZOFFSETFROM:-0700
TZOFFSETTO:-0800
TZNAME:PST
DTSTART:19701101T020000
RRULE:FREQ=YEARLY;BYMONTH=11;BYDAY=1SU
END:STANDARD
END:VTIMEZONE
BEGIN:VEVENT
UID:1464587:Event:651536
DTSTAMP:20260420T102212Z
SUMMARY:Snakehips
DESCRIPTION:Since forming only 18 months ago, Snakehips have made th
 eir name with Hype Machine chart-topping remixes for Banks, The Weeknd
 , Bondax and Wild Belle, which between them have notched up more than 
 30 million plays on Soundcloud and YouTube. Last May, the mysterious p
 roduction duo built on their early acclaim with On & On, a Radio 1-cha
 mpioned debut single that set out their signature sound, a sensual up-
 to-date take on old school R&B and hip hop.\nIn time to usher in anoth
 er summer and ahead of appearances at major festivals across the UK an
 d abroad, Snakehips are ready to release their glorious, second single
 , Days With U, featuring Disclosure and Rudimental vocalist Sinead Har
 nett. With the vibe of long, hot, hazy days coursing through its veins
 , Days With U sounds both retro and fresh and as dreamily laid-back as
  it is dancefloor-friendly. Driven as much by melody as by hip hop bea
 ts and shimmering synths, it’s a song about heartbreak that, somehow
 , sounds resolutely life-affirming.\n\nFor more information visit http
 ://trueskool.com/events/snakehipz
DTSTART;TZID=America/Los_Angeles:20160816T213000
DTEND;TZID=America/Los_Angeles:20160817T020000
CATEGORIES:"san francisco", "bay area"
LOCATION:Mezzanine, San Francisco
WEBSITE:http://www.ticketmaster.com/event/1C0050EBCA17397E?camefrom=CF
 C_MEZZANINE_web&brand=anotherplanet
URL:http://www.ticketmaster.com/event/1C0050EBCA17397E?camefrom=CFC_ME
 ZZANINE_web&brand=anotherplanet
CONTACT:4156258880
ORGANIZER:Another Planet Entertainment
ATTACH;FMTTYPE="image/jpeg":http://storage.ning.com/topology/rest/1.0/
 file/get/2247990266?profile=original
ATTENDEE;ROLE=REQ-PARTICIPANT;PARTSTAT=ACCEPTED;RSVP=TRUE;CN=Mezzanine
 SF:http://trueskool.com/profile/MezzanineSF
END:VEVENT
END:VCALENDAR
