BEGIN:VCALENDAR
PRODID:NingEventWidget-v1
VERSION:2.0
METHOD:PUBLISH
BEGIN:VTIMEZONE
TZID:America/Los_Angeles
X-LIC-LOCATION:America/Los_Angeles
BEGIN:DAYLIGHT
TZOFFSETFROM:-0800
TZOFFSETTO:-0700
TZNAME:PDT
DTSTART:19700308T020000
RRULE:FREQ=YEARLY;BYMONTH=3;BYDAY=2SU
END:DAYLIGHT
BEGIN:STANDARD
TZOFFSETFROM:-0700
TZOFFSETTO:-0800
TZNAME:PST
DTSTART:19701101T020000
RRULE:FREQ=YEARLY;BYMONTH=11;BYDAY=1SU
END:STANDARD
END:VTIMEZONE
BEGIN:VEVENT
UID:1464587:Event:675221
DTSTAMP:20260420T134652Z
SUMMARY:Smoked Out Summer BBQ
DESCRIPTION:HIP HOP LINEUP\nImmortal Technique\nNecro -Â Dead Prez -Â 
 The Grouch and Eligh\n??? - Murs -Â RA The Rugged Man\nTwisted Insane 
 -Â 1 Ton -Â A-F-R-O -Â TYT\nCOMEDY LINEUP\nRudy Ortiz -Â Kabir Singh\n
 Chris Riggins - Terrell 'Big T' Butler - Emily Catalano\nDauood Naimya
 r - Anthony KÂ  - Saul TrujilloÂ  - Jennifer Alves\n\nCome out for a s
 moking day of dope hip hop, hilarious stand up comedy and bomb BBQ fro
 m Slow Hand BBQ! Come see what we're cooking up this summer!\n\nLimite
 d amount of Early Bird GA and Stacked Bundle tickets tickets still ava
 ilable, get em while they last!\n\nSaturday July 21st, 2018\nOakland M
 etro Operahouse\n522 2nd Street, Oakland CA\nDoors: 1 PM / Show: 2 PMÂ
  \nAll Ages\nEarly Bird GA - $60 (While Supplies Last)\nStacked Bundle
 * - $100Â (While Supplies Last)\n*includes GA ticket, stacked BBQ plat
 e, t-shirt, poster, and koozie!\n\n\nFor more information visit http:/
 /trueskool.com/events/smoked-out-summer-bbq-1
DTSTART;TZID=America/Los_Angeles:20180721T130000
DTEND;TZID=America/Los_Angeles:20180722T000000
CATEGORIES:oakland, "bay area", "east bay", "south bay", peninsula, "s
 an francisco"
LOCATION:Oakland Metro Operahouse, Oakland, CA
WEBSITE:https://tickets.holdmyticket.com/tickets/310217
URL:https://tickets.holdmyticket.com/tickets/310217
CONTACT:
ORGANIZER:Ungaffable Productions
ATTACH;FMTTYPE="image/jpeg":http://storage.ning.com/topology/rest/1.0/
 file/get/2248007332?profile=original
ATTENDEE;ROLE=REQ-PARTICIPANT;PARTSTAT=ACCEPTED;RSVP=TRUE;CN=Ryan:http
 ://trueskool.com/profile/Ryan338
END:VEVENT
END:VCALENDAR
