BEGIN:VCALENDAR
PRODID:NingEventWidget-v1
VERSION:2.0
METHOD:PUBLISH
BEGIN:VTIMEZONE
TZID:America/Los_Angeles
X-LIC-LOCATION:America/Los_Angeles
BEGIN:DAYLIGHT
TZOFFSETFROM:-0800
TZOFFSETTO:-0700
TZNAME:PDT
DTSTART:19700308T020000
RRULE:FREQ=YEARLY;BYMONTH=3;BYDAY=2SU
END:DAYLIGHT
BEGIN:STANDARD
TZOFFSETFROM:-0700
TZOFFSETTO:-0800
TZNAME:PST
DTSTART:19701101T020000
RRULE:FREQ=YEARLY;BYMONTH=11;BYDAY=1SU
END:STANDARD
END:VTIMEZONE
BEGIN:VEVENT
UID:1464587:Event:625860
DTSTAMP:20260420T202403Z
SUMMARY:SMOKED OUT SOUL ~ Funk Crunk Remix Party ft. Ren the Vinyl Arc
 haeologist / ZEBUEL / Will Magid & guests
DESCRIPTION:\nJoin us for the Next edition of Smoked Out Soul funk & s
 oul remix party on April 8!  Now Every 2nd & 4th Wednesday Monarch 101
  6th Street!   Kung fu funk & soul remixes with world class DJ sets ac
 companied by live instrumentation. Our aim is to transport your ass in
 to the past and the future at the same damn time. Anything goes as lon
 g it's got that future soul!  Party with a purpose: We will be donatin
 g a portion of the proceeds of Smoked Out Soul to various charities so
  know that by attending you are helping yourself have a good time, sup
 porting local artists and contributing to organizations who are fighti
 ng the good fight!  For this edition we have:  $ Ren The Vinyl Archaeo
 logist (True School) https://soundcloud.com/trueskool  $ Zebuel (live 
 guitar & DJ set) https://soundcloud.com/zebuel  $ Will Magid (trumpet 
 & DJ Set) https://soundcloud.com/willmagid  Paul Oliphant on drums  En
 rique Padilla on percussion  plus ~ Special guests all night!  Diamond
  Entertainment & Arts on the scene with the ill kung fu projections  2
 1+ $5 in advance $10 day of show\n\nFor more information visit http://
 trueskool.com/events/smoked-out-soul-funk-crunk-remix-party-ft-ren-the
 -vinyl
DTSTART;TZID=America/Los_Angeles:20150408T210000
DTEND;TZID=America/Los_Angeles:20150409T010000
CATEGORIES:monarch, bay, area, san, francisco, ren, the, vinyl, archae
 ologist, zebuel, will, magid, smoked, out, soul
LOCATION:Monarch, San Francisco
WEBSITE:http://ticketfly.com
URL:http://ticketfly.com
CONTACT:
ORGANIZER;CN="Zebuel Early":http://trueskool.com/profile/ZebuelEarly
ATTACH;FMTTYPE="image/jpeg":http://storage.ning.com/topology/rest/1.0/
 file/get/2247975218?profile=original
ATTENDEE;ROLE=REQ-PARTICIPANT;PARTSTAT=ACCEPTED;RSVP=TRUE;CN="Zebuel E
 arly":http://trueskool.com/profile/ZebuelEarly
END:VEVENT
END:VCALENDAR
