BEGIN:VCALENDAR
PRODID:NingEventWidget-v1
VERSION:2.0
METHOD:PUBLISH
BEGIN:VTIMEZONE
TZID:America/Los_Angeles
X-LIC-LOCATION:America/Los_Angeles
BEGIN:DAYLIGHT
TZOFFSETFROM:-0800
TZOFFSETTO:-0700
TZNAME:PDT
DTSTART:19700308T020000
RRULE:FREQ=YEARLY;BYMONTH=3;BYDAY=2SU
END:DAYLIGHT
BEGIN:STANDARD
TZOFFSETFROM:-0700
TZOFFSETTO:-0800
TZNAME:PST
DTSTART:19701101T020000
RRULE:FREQ=YEARLY;BYMONTH=11;BYDAY=1SU
END:STANDARD
END:VTIMEZONE
BEGIN:VEVENT
UID:1464587:Event:690359
DTSTAMP:20260420T192719Z
SUMMARY:Smoakland Media Presents: The 8th Annual Hiero Day Block Party
DESCRIPTION:ENTER TO WIN A PAIR OF TICKETS. WINNER WILL BE DRAWN RANDO
 MLY AND ANNOUNCED 2 DAYS PRIOR TO EVENT.\r\n\r\nMONDAY, SEPT 2 Smoakla
 nd Media Presents:  The 8th Annual Hiero Day Block Party\r\nFeaturing 
 Hieroglyphics Crew:  Casual, Del the Funky Homosapien, Domino, Pep Lov
 e, Souls Of Mischief, Dj Toure Little Brother Scarface Black Moon  Smi
 f N Wessun Benny The Butcher & CONWAY Adrian Younge & Ali Shaheed Muha
 mmad Pete Rock & Yukmouth Spice 1 Capolow304,Â Count Bass D,Â Daboydam
 e,Â Haiti Babii,Â J 12,Â Jane Handcock,Â Jay Stone & queens D. light,Â
  J Cutt J. Espinosa,Â Klassy,Â Lady Ryan,Â Medusa The Gangsta Goddess,
 Â Mekfly,Â Mereba,Â DJ Mind Motion,Â Nappy Nina,Â Oakland Faders,Â Pla
 yrunners Association,Â Pony P & Ray Reck,Â DJ Red Corvette,Â Shellhear
 t,Â Shruggs,Â Sleeprockers,Â Stoney Hawk (Sunspot Jonz + A-Plus),Â Swe
 etest Threat,Â Umami,Â VanJess Wavy Baby,Â X Slapz (SOB X RBE)  \r\nHo
 sted by:  Chinaka Hodge,Â Chris Riggins,Â Chuy Gomez,Â Leon DNas Sykes
 ,Â Mistah FAB,Â Rayana Jay,Â Sway Calloway\r\n@ 3rd & Martin Luther Ki
 ng Jr. Street, Jack London District, Oakland, CA >> BUY TICKETS\r\n\r\
 nHiero Day is back for its 8th annual celebration this Labor Day in Oa
 kland, California. The Hip - Hop music block party that brings people 
 from all over the Bay area together for one day of celebration is back
  and the best yet! Hiero Day Music Block Party is an all-day, all-age 
 music event showcasing over 30 live performances on 3 stages by the be
 st legendary, underground and undiscovered artists in genres such as h
 ip-hop, R&B, and more.\r\nHIEROGLYPHICS is a world renowned hip-hop co
 llective based in Oakland, California. Founded in the early 1990s by D
 el the Funky Homosapien, the crew is composed of himself along with em
 cees and producers A-Plus, Opio, Phesto and Tajai (Souls of Mischief) 
 Casual, Domino, Pep Love and DJ TourÃ©. After several major label rele
 ases between 1991 and 1995, they started their own independent record 
 company, Hieroglyphics Imperium in 1997 and have been an influential f
 orce in Hip Hop culture for 25+ years.\n\nFor more information visit h
 ttp://trueskool.com/events/smoakland-media-presents-the-8th-annual-hie
 ro-day-block-party
DTSTART;TZID=America/Los_Angeles:20190902T110000
DTEND;TZID=America/Los_Angeles:20190902T190000
CATEGORIES:"bay area", oakland
LOCATION:3rd &amp; Martin Luther King Jr. Street, Jack London District
WEBSITE:https://www.universe.com/events/hiero-day-music-block-party-20
 19-8th-annual-tickets-oakland-1KCW59
URL:https://www.universe.com/events/hiero-day-music-block-party-2019-8
 th-annual-tickets-oakland-1KCW59
CONTACT:
ORGANIZER:Hieroglyphics
ATTACH;FMTTYPE="image/jpeg":https://storage.ning.com/topology/rest/1.0
 /file/get/3424513389?profile=original
ATTENDEE;ROLE=REQ-PARTICIPANT;PARTSTAT=ACCEPTED;RSVP=TRUE;CN="James Mi
 chael Federighi":http://trueskool.com/profile/JamesMichaelFederighi
ATTENDEE;ROLE=REQ-PARTICIPANT;PARTSTAT=ACCEPTED;RSVP=TRUE;CN="Editor's
  Pick":http://trueskool.com/profile/RentheVinylArchaeologist
END:VEVENT
END:VCALENDAR
