BEGIN:VCALENDAR
PRODID:NingEventWidget-v1
VERSION:2.0
METHOD:PUBLISH
BEGIN:VTIMEZONE
TZID:America/Los_Angeles
X-LIC-LOCATION:America/Los_Angeles
BEGIN:DAYLIGHT
TZOFFSETFROM:-0800
TZOFFSETTO:-0700
TZNAME:PDT
DTSTART:19700308T020000
RRULE:FREQ=YEARLY;BYMONTH=3;BYDAY=2SU
END:DAYLIGHT
BEGIN:STANDARD
TZOFFSETFROM:-0700
TZOFFSETTO:-0800
TZNAME:PST
DTSTART:19701101T020000
RRULE:FREQ=YEARLY;BYMONTH=11;BYDAY=1SU
END:STANDARD
END:VTIMEZONE
BEGIN:VEVENT
UID:1464587:Event:647049
DTSTAMP:20260420T183914Z
SUMMARY:SMART BOMB w/□ Dakim ● Pink Siifu ● Linchpyn ● Mucho S
 tereo● Noa-
DESCRIPTION:Smart Bomb v.22\nLive in the Loft:\nDakim\nPink Siifu\nLin
 chpyn(Marcus Stephens + Mike Reed)\nMucho Stereo(Mike Boo + Asonic Gar
 cia)\nNoa-\nDJ: Mr. Muddbird\nHosted by: The Zap Tap & Joe Mousepad\nF
 ood: Two Mamacitas\n21+9:00pm-1:30am$5 Before 11/ $10 AfterThe Legionn
 aire Saloon\n\nFor more information visit http://trueskool.com/events/
 smart-bomb-w-dakim-pink-siifu-linchpyn-mucho-stereo-noa
DTSTART;TZID=America/Los_Angeles:20160423T210000
DTEND;TZID=America/Los_Angeles:20160424T020000
CATEGORIES:the, legionnaire, saloon, oakland
LOCATION:The Legionnaire Saloon, Oakland CA
WEBSITE:https://www.facebook.com/events/587246061434635/
URL:https://www.facebook.com/events/587246061434635/
CONTACT:17075924860
ORGANIZER;CN="Asonic Garcia":http://trueskool.com/profile/AsonicGarcia
ATTACH;FMTTYPE="image/jpeg":http://storage.ning.com/topology/rest/1.0/
 file/get/2247988455?profile=original
ATTENDEE;ROLE=REQ-PARTICIPANT;PARTSTAT=ACCEPTED;RSVP=TRUE;CN="Asonic G
 arcia":http://trueskool.com/profile/AsonicGarcia
END:VEVENT
END:VCALENDAR
