BEGIN:VCALENDAR
PRODID:NingEventWidget-v1
VERSION:2.0
METHOD:PUBLISH
BEGIN:VTIMEZONE
TZID:America/Los_Angeles
X-LIC-LOCATION:America/Los_Angeles
BEGIN:DAYLIGHT
TZOFFSETFROM:-0800
TZOFFSETTO:-0700
TZNAME:PDT
DTSTART:19700308T020000
RRULE:FREQ=YEARLY;BYMONTH=3;BYDAY=2SU
END:DAYLIGHT
BEGIN:STANDARD
TZOFFSETFROM:-0700
TZOFFSETTO:-0800
TZNAME:PST
DTSTART:19701101T020000
RRULE:FREQ=YEARLY;BYMONTH=11;BYDAY=1SU
END:STANDARD
END:VTIMEZONE
BEGIN:VEVENT
UID:1464587:Event:651685
DTSTAMP:20260420T201928Z
SUMMARY:SMART BOMB v.25 ● DJ Harrison • WVG • Javi Santiago • 
 Drewmin •
DESCRIPTION:SMART BOMB V. 25\n\n \n\nDJ HARRISON \n\nWVG\n\nJAVI SAN
 TIAGO \n\nDREWMIN \n\n \n\nCassette DJ:\n\nASONIC GARCIA\n\n \n\nH
 ost :\n\nTHE ZAP TAP\n\n \n\nFood:\n\nTWO MAMACITAS POP UP KITCHEN\n\
 n \n\n$10 ($5 b4 10:30)\n\n21 +\n\n \n\n \n\n\nFor more information
  visit http://trueskool.com/events/smart-bomb-v-25-dj-harrison-wvg-jav
 i-santiago-drewmin
DTSTART;TZID=America/Los_Angeles:20160723T210000
DTEND;TZID=America/Los_Angeles:20160724T013000
CATEGORIES:bay, area, oakland
LOCATION:Oakland
WEBSITE:https://www.facebook.com/events/1144805678924122/
URL:https://www.facebook.com/events/1144805678924122/
CONTACT:
ORGANIZER;CN="Asonic Garcia":http://trueskool.com/profile/AsonicGarcia
ATTACH;FMTTYPE="image/jpeg":http://storage.ning.com/topology/rest/1.0/
 file/get/2247989817?profile=original
ATTENDEE;ROLE=REQ-PARTICIPANT;PARTSTAT=ACCEPTED;RSVP=TRUE;CN="Asonic G
 arcia":http://trueskool.com/profile/AsonicGarcia
END:VEVENT
END:VCALENDAR
