BEGIN:VCALENDAR
PRODID:NingEventWidget-v1
VERSION:2.0
METHOD:PUBLISH
BEGIN:VTIMEZONE
TZID:America/Los_Angeles
X-LIC-LOCATION:America/Los_Angeles
BEGIN:DAYLIGHT
TZOFFSETFROM:-0800
TZOFFSETTO:-0700
TZNAME:PDT
DTSTART:19700308T020000
RRULE:FREQ=YEARLY;BYMONTH=3;BYDAY=2SU
END:DAYLIGHT
BEGIN:STANDARD
TZOFFSETFROM:-0700
TZOFFSETTO:-0800
TZNAME:PST
DTSTART:19701101T020000
RRULE:FREQ=YEARLY;BYMONTH=11;BYDAY=1SU
END:STANDARD
END:VTIMEZONE
BEGIN:VEVENT
UID:1464587:Event:642505
DTSTAMP:20260420T215130Z
SUMMARY:SMART BOMB v.20 w/ JEL (Anticon) ● BLUEZR ● MIEKSNEAK ● 
 DAOUD ●  NORTHERN DRAW
DESCRIPTION:SMART BOMB V.20\nlive in the loft:\nJel (Anticon)BluezrMie
 ksneak NorthernDrawDaoud\nDJ : Mark Aubert\nLive Art : Muzae Sesay\nH
 osted by: The Zap Tap & Joe Mousepad\n9pm -130am21 +$5 before 11/ $10 
 afterThe Legionnaire Saloon 2272 Telegraph Ave, Oakland, CA\n\n\n\nFo
 r more information visit http://trueskool.com/events/smart-bomb-v-20-w
 -jel-anticon-bluezr-mieksneak-daoud-northern
DTSTART;TZID=America/Los_Angeles:20160227T210000
DTEND;TZID=America/Los_Angeles:20160228T014500
CATEGORIES:oakland, "bay area", "san francisco"
LOCATION:Legionnaire Saloon, Oakland, CA
WEBSITE:https://www.facebook.com/smartbombfuturist/
URL:https://www.facebook.com/smartbombfuturist/
CONTACT:
ORGANIZER;CN="Asonic Garcia":http://trueskool.com/profile/AsonicGarcia
ATTACH;FMTTYPE="image/jpeg":http://storage.ning.com/topology/rest/1.0/
 file/get/2247985385?profile=original
ATTENDEE;ROLE=REQ-PARTICIPANT;PARTSTAT=ACCEPTED;RSVP=TRUE;CN="Asonic G
 arcia":http://trueskool.com/profile/AsonicGarcia
END:VEVENT
END:VCALENDAR
