BEGIN:VCALENDAR
PRODID:NingEventWidget-v1
VERSION:2.0
METHOD:PUBLISH
BEGIN:VTIMEZONE
TZID:America/Los_Angeles
X-LIC-LOCATION:America/Los_Angeles
BEGIN:DAYLIGHT
TZOFFSETFROM:-0800
TZOFFSETTO:-0700
TZNAME:PDT
DTSTART:19700308T020000
RRULE:FREQ=YEARLY;BYMONTH=3;BYDAY=2SU
END:DAYLIGHT
BEGIN:STANDARD
TZOFFSETFROM:-0700
TZOFFSETTO:-0800
TZNAME:PST
DTSTART:19701101T020000
RRULE:FREQ=YEARLY;BYMONTH=11;BYDAY=1SU
END:STANDARD
END:VTIMEZONE
BEGIN:VEVENT
UID:1464587:Event:652850
DTSTAMP:20260420T154050Z
SUMMARY:SMART BOMB • Linafornia • Salami Rose Joe Louis • Audio 
 Angel • JahniahOmi • Blush Dara
DESCRIPTION:August 20\nSMART BOMB V.26 Live in the Loft:\nLinafornia S
 alami Rose Joe Louis JahniahOmi (of The Oakland Mind) Audio Angel\nDJ:
  Blush Dara\nLive Art: Safetyfirst POP\nFood: Two Mamacitas Pop Up Kit
 chen\n9pm - 130am $10 (5 before 10:30) 21+ Legionnaire Saloon 2272 Tel
 egraph Ave\n\nFor more information visit http://trueskool.com/events/s
 mart-bomb-linafornia-salami-rose-joe-louis-audio-angel
DTSTART;TZID=America/Los_Angeles:20160820T180000
DTEND;TZID=America/Los_Angeles:20160820T190000
CATEGORIES:oakland
LOCATION:Legionnaire Saloon, Oakland, CA 94605
WEBSITE:https://www.facebook.com/events/863554540444144/
URL:https://www.facebook.com/events/863554540444144/
CONTACT:
ORGANIZER;CN="Asonic Garcia":http://trueskool.com/profile/AsonicGarcia
ATTACH;FMTTYPE="image/jpeg":http://storage.ning.com/topology/rest/1.0/
 file/get/2247990274?profile=original
ATTENDEE;ROLE=REQ-PARTICIPANT;PARTSTAT=ACCEPTED;RSVP=TRUE;CN="Asonic G
 arcia":http://trueskool.com/profile/AsonicGarcia
END:VEVENT
END:VCALENDAR
