BEGIN:VCALENDAR
PRODID:NingEventWidget-v1
VERSION:2.0
METHOD:PUBLISH
BEGIN:VTIMEZONE
TZID:America/Los_Angeles
X-LIC-LOCATION:America/Los_Angeles
BEGIN:DAYLIGHT
TZOFFSETFROM:-0800
TZOFFSETTO:-0700
TZNAME:PDT
DTSTART:19700308T020000
RRULE:FREQ=YEARLY;BYMONTH=3;BYDAY=2SU
END:DAYLIGHT
BEGIN:STANDARD
TZOFFSETFROM:-0700
TZOFFSETTO:-0800
TZNAME:PST
DTSTART:19701101T020000
RRULE:FREQ=YEARLY;BYMONTH=11;BYDAY=1SU
END:STANDARD
END:VTIMEZONE
BEGIN:VEVENT
UID:1464587:Event:645548
DTSTAMP:20260421T033430Z
SUMMARY:SMART BOMB 3 YEAR ANNIVERSARY!
DESCRIPTION:SMART BOMB v.21]3 YEAR ANNIVERSARY!!live in the loft:MOPHO
 NO ELUSIVEBDOTDREWMINRAY RECKMYTHICALIFORNIANHosted by: THE ZAP TAP 
 & JOE MOUSEPADOpen Art session led by:MUZAE SESAY$5 b4 11pm/ $10 after
 21 +The Legionnaire Saloon2272 Telegraph AveOakland, CA\n\nFor more in
 formation visit http://trueskool.com/events/smart-bomb-3-year-annivers
 ary
DTSTART;TZID=America/Los_Angeles:20160326T210000
DTEND;TZID=America/Los_Angeles:20160327T013000
CATEGORIES:oakland, "bay area", "san francisco"
LOCATION:The Legionnaire Saloon, Oakland CA
WEBSITE:https://www.facebook.com/events/1077629225590924/
URL:https://www.facebook.com/events/1077629225590924/
CONTACT:7075924860
ORGANIZER;CN="Asonic Garcia":http://trueskool.com/profile/AsonicGarcia
ATTACH;FMTTYPE="image/jpeg":
ATTENDEE;ROLE=REQ-PARTICIPANT;PARTSTAT=ACCEPTED;RSVP=TRUE;CN="Asonic G
 arcia":http://trueskool.com/profile/AsonicGarcia
END:VEVENT
END:VCALENDAR
