BEGIN:VCALENDAR
PRODID:NingEventWidget-v1
VERSION:2.0
METHOD:PUBLISH
BEGIN:VTIMEZONE
TZID:America/Los_Angeles
X-LIC-LOCATION:America/Los_Angeles
BEGIN:DAYLIGHT
TZOFFSETFROM:-0800
TZOFFSETTO:-0700
TZNAME:PDT
DTSTART:19700308T020000
RRULE:FREQ=YEARLY;BYMONTH=3;BYDAY=2SU
END:DAYLIGHT
BEGIN:STANDARD
TZOFFSETFROM:-0700
TZOFFSETTO:-0800
TZNAME:PST
DTSTART:19701101T020000
RRULE:FREQ=YEARLY;BYMONTH=11;BYDAY=1SU
END:STANDARD
END:VTIMEZONE
BEGIN:VEVENT
UID:1464587:Event:673559
DTSTAMP:20260420T201314Z
SUMMARY:Slightly Stoopid, Stick Figure, Pepper
DESCRIPTION:ENTER TO WIN A PAIR OF TICKETS. WINNER WILL BE DRAWN RANDO
 MLY AND ANNOUNCED 2 DAYS PRIOR TO EVENT.\r\n\r\nSunday, June 17, 2018\
 r\nSchools Out For Summer 2018\r\nSLIGHTLY STOOPID\r\nStick Figure   P
 epper\r\nGreek Theatre, Berkeley, CA Doors: 5:00am | Show: 6:00pm\r\n
 $45.00 – General Admission**\r\n>> BUY TICKETS\r\n\n\nFor more infor
 mation visit http://trueskool.com/events/slightly-stoopid-1
DTSTART;TZID=America/Los_Angeles:20180617T180000
DTEND;TZID=America/Los_Angeles:20180617T230000
CATEGORIES:"bay area", oakland, "san francisco", "san jose", berkeley
LOCATION:Greek Theatre, Berkeley
WEBSITE:https://www.ticketmaster.com/slightly-stoopid-schools-out-for-
 summer-berkeley-california-06-17-2018/event/1C00544FF6E97573?camefrom=
 CFC_ANOTHERPLANET_web&amp;amp;amp;brand=anotherplanet
URL:https://www.ticketmaster.com/slightly-stoopid-schools-out-for-summ
 er-berkeley-california-06-17-2018/event/1C00544FF6E97573?camefrom=CFC_
 ANOTHERPLANET_web&amp;amp;amp;brand=anotherplanet
CONTACT:
ORGANIZER:Another Planet Ent
ATTACH;FMTTYPE="image/jpeg":http://storage.ning.com/topology/rest/1.0/
 file/get/2248005316?profile=original
ATTENDEE;ROLE=REQ-PARTICIPANT;PARTSTAT=ACCEPTED;RSVP=TRUE;CN="Donte Ha
 rrison":http://trueskool.com/profile/DonteHarrison
ATTENDEE;ROLE=REQ-PARTICIPANT;PARTSTAT=ACCEPTED;RSVP=TRUE;CN="Elisa Bj
 eldanes":http://trueskool.com/profile/ElisaBjeldanes
ATTENDEE;ROLE=REQ-PARTICIPANT;PARTSTAT=ACCEPTED;RSVP=TRUE;CN="Editor's
  Pick":http://trueskool.com/profile/RentheVinylArchaeologist
END:VEVENT
END:VCALENDAR
