BEGIN:VCALENDAR
PRODID:NingEventWidget-v1
VERSION:2.0
METHOD:PUBLISH
BEGIN:VTIMEZONE
TZID:America/Los_Angeles
X-LIC-LOCATION:America/Los_Angeles
BEGIN:DAYLIGHT
TZOFFSETFROM:-0800
TZOFFSETTO:-0700
TZNAME:PDT
DTSTART:19700308T020000
RRULE:FREQ=YEARLY;BYMONTH=3;BYDAY=2SU
END:DAYLIGHT
BEGIN:STANDARD
TZOFFSETFROM:-0700
TZOFFSETTO:-0800
TZNAME:PST
DTSTART:19701101T020000
RRULE:FREQ=YEARLY;BYMONTH=11;BYDAY=1SU
END:STANDARD
END:VTIMEZONE
BEGIN:VEVENT
UID:1464587:Event:445706
DTSTAMP:20260421T070246Z
SUMMARY:Slick Rick Performing Live @ Public Works
DESCRIPTION:Supabad Entertainment & Ankh Marketing present Slick Rick
  The Ruler performing LIVE at Public Works SFParty People get your tic
 kets NOWAlso featuring Original Djs/Hot All Star Djs:Supa Star Pos Red
  & LL Supreme Live in the Mixxx9pm Doors, 21 & OverFor Advance Tickets
  Click Here www.slickricklive.eventbrite.comAll Sales Final, No Refun
 dsSTANDING ROOM only PARTY and SHOWwww.supabadentertainment.comTwitter
 ,FaceBook & Instagram: supabadent\n\nFor more information visit http:/
 /trueskool.com/events/slick-rick-performing-live-public-works
DTSTART;TZID=America/Los_Angeles:20141114T210000
DTEND;TZID=America/Los_Angeles:20141115T020000
CATEGORIES:hip, hop, party, old, school
LOCATION:Public Works SF
WEBSITE:http://www.slickricklive.eventbrite.com
URL:http://www.slickricklive.eventbrite.com
CONTACT:
ORGANIZER;CN="Supabad Entertainment":http://trueskool.com/profile/Supa
 badEnt
ATTACH;FMTTYPE="image/jpeg":http://storage.ning.com/topology/rest/1.0/
 file/get/2247969208?profile=original
ATTENDEE;ROLE=REQ-PARTICIPANT;PARTSTAT=ACCEPTED;RSVP=TRUE;CN="Stefanie
  Jackson":http://trueskool.com/profile/StefanieJackson
ATTENDEE;ROLE=REQ-PARTICIPANT;PARTSTAT=ACCEPTED;RSVP=TRUE;CN=n8thegr8r
 :http://trueskool.com/profile/n8thegr8r
ATTENDEE;ROLE=REQ-PARTICIPANT;PARTSTAT=ACCEPTED;RSVP=TRUE;CN=RosieBoo:
 http://trueskool.com/profile/RosannaIndalecio
ATTENDEE;ROLE=REQ-PARTICIPANT;PARTSTAT=ACCEPTED;RSVP=TRUE;CN="Supabad 
 Entertainment":http://trueskool.com/profile/SupabadEnt
END:VEVENT
END:VCALENDAR
