BEGIN:VCALENDAR
PRODID:NingEventWidget-v1
VERSION:2.0
METHOD:PUBLISH
BEGIN:VTIMEZONE
TZID:America/Los_Angeles
X-LIC-LOCATION:America/Los_Angeles
BEGIN:DAYLIGHT
TZOFFSETFROM:-0800
TZOFFSETTO:-0700
TZNAME:PDT
DTSTART:19700308T020000
RRULE:FREQ=YEARLY;BYMONTH=3;BYDAY=2SU
END:DAYLIGHT
BEGIN:STANDARD
TZOFFSETFROM:-0700
TZOFFSETTO:-0800
TZNAME:PST
DTSTART:19701101T020000
RRULE:FREQ=YEARLY;BYMONTH=11;BYDAY=1SU
END:STANDARD
END:VTIMEZONE
BEGIN:VEVENT
UID:1464587:Event:649597
DTSTAMP:20260420T214753Z
SUMMARY:Slaps, Soul & Sound (3rd Saturdays) w DJ Natural
DESCRIPTION:Join local favorite DJ Natural every 3rd Saturday for Slap
 s, Soul and Sound. Doors 10pm. Cover. 21+ For reservations email party
 @johncolins.com\n\nFor more information visit http://trueskool.com/eve
 nts/slaps-soul-sound-3rd-saturdays-w-dj-natural
DTSTART;TZID=America/Los_Angeles:20160521T220000
DTEND;TZID=America/Los_Angeles:20160522T020000
CATEGORIES:san, francisco, soma, financial, district
LOCATION:John Colins, San Francisco, CA
WEBSITE:http://www.johncolins.com
URL:http://www.johncolins.com
CONTACT:
ORGANIZER;CN="John Colins":http://trueskool.com/profile/JohnColinsSF
ATTACH;FMTTYPE="image/jpeg":http://storage.ning.com/topology/rest/1.0/
 file/get/2247988697?profile=original
ATTENDEE;ROLE=REQ-PARTICIPANT;PARTSTAT=ACCEPTED;RSVP=TRUE;CN="John Col
 ins":http://trueskool.com/profile/JohnColinsSF
END:VEVENT
END:VCALENDAR
