BEGIN:VCALENDAR
PRODID:NingEventWidget-v1
VERSION:2.0
METHOD:PUBLISH
BEGIN:VTIMEZONE
TZID:America/Los_Angeles
X-LIC-LOCATION:America/Los_Angeles
BEGIN:DAYLIGHT
TZOFFSETFROM:-0800
TZOFFSETTO:-0700
TZNAME:PDT
DTSTART:19700308T020000
RRULE:FREQ=YEARLY;BYMONTH=3;BYDAY=2SU
END:DAYLIGHT
BEGIN:STANDARD
TZOFFSETFROM:-0700
TZOFFSETTO:-0800
TZNAME:PST
DTSTART:19701101T020000
RRULE:FREQ=YEARLY;BYMONTH=11;BYDAY=1SU
END:STANDARD
END:VTIMEZONE
BEGIN:VEVENT
UID:1464587:Event:294786
DTSTAMP:20260420T231842Z
SUMMARY:Skrillex
DESCRIPTION:\nVenue:\nBill Graham Civic Auditorium\n\nLocation:\nSan F
 rancisco, CA\n\nShow Date:\nSaturday, February 8\n\nShow Time:\n7:30PM
 \n\nOn Sale Date:\nThursday, December 5\n\nTicket Price:\n$45.00 - Gen
 eral Admission*plus applicable service fees\nTickets are also availabl
 e service charge free at The Fox Theater's Box Office (located on the 
 19th street side of the theater) on show dates and on Fridays from noo
 n - 7:00pm\n\n\n\n\n\nFor more information visit http://trueskool.com/
 events/skrillex-3
DTSTART;TZID=America/Los_Angeles:20140108T180000
DTEND;TZID=America/Los_Angeles:20140108T190000
CATEGORIES:"bay area", "san francisco", "oakland\""
LOCATION:Bill Graham Civic Auditorium, San Francisco
WEBSITE:http://www.ticketmaster.com/event/1C004B7A3C1FA97A?brand=anoth
 erplanet&camefrom=CFC_ANOTHERPLANET
URL:http://www.ticketmaster.com/event/1C004B7A3C1FA97A?brand=anotherpl
 anet&camefrom=CFC_ANOTHERPLANET
CONTACT:
ORGANIZER;CN="Editor's Pick":http://trueskool.com/profile/RentheVinylA
 rchaeologist
ATTACH;FMTTYPE="image/jpeg":http://storage.ning.com/topology/rest/1.0/
 file/get/2247955662?profile=original
ATTENDEE;ROLE=REQ-PARTICIPANT;PARTSTAT=ACCEPTED;RSVP=TRUE;CN="Editor's
  Pick":http://trueskool.com/profile/RentheVinylArchaeologist
END:VEVENT
END:VCALENDAR
