BEGIN:VCALENDAR
PRODID:NingEventWidget-v1
VERSION:2.0
METHOD:PUBLISH
BEGIN:VTIMEZONE
TZID:America/Los_Angeles
X-LIC-LOCATION:America/Los_Angeles
BEGIN:DAYLIGHT
TZOFFSETFROM:-0800
TZOFFSETTO:-0700
TZNAME:PDT
DTSTART:19700308T020000
RRULE:FREQ=YEARLY;BYMONTH=3;BYDAY=2SU
END:DAYLIGHT
BEGIN:STANDARD
TZOFFSETFROM:-0700
TZOFFSETTO:-0800
TZNAME:PST
DTSTART:19701101T020000
RRULE:FREQ=YEARLY;BYMONTH=11;BYDAY=1SU
END:STANDARD
END:VTIMEZONE
BEGIN:VEVENT
UID:1464587:Event:458313
DTSTAMP:20260420T210040Z
SUMMARY:SKIN World Wide: One Year Anniversary Celebration
DESCRIPTION:To celebrate our one year anniversary of SKIN, we’ve ch
 osen the finest artists and DJs to take us across continents and diasp
 oras; from the winding rhythms of Nigeria’s Afro-Beat & Highlife to 
 the new sounds rising in South Africa’s House Scene, the Caribbean
 s golden collection of Soca, Calypso, Dancehall and Salsa to Brazil
 s Samba & Baile Funk…we fuse the tap-tap-tapping of Tahitian drummi
 ng with sexy 808 rhythms of Tropical Bass and more. Summoning the past
 , present and future – we invite you to journey with us into a space
  where music becomes our mother, and we find ourselves lovingly back h
 ome.\nGather Round.\nOne Year Anniversary Celebration / Two Rooms of M
 usic / New Location:\nHosted By Ms. Candi\nFeaturing:DJ Cecil + Soul
  MojoEmancipacion / Diaztek / Son of Son\nArtisan Village:Bush Mam
 a / Esoteric Images / Mami Afrika\nBelly Dance Performance:Heaven 
 Mousalem\n\nRiddim581 5th St.Oakland, CA / 21 +\nDoors 9pm, $5 Cover
  Before 10pm, $10 After / Wheel Chair Accessible\n\n\nFor more inform
 ation visit http://trueskool.com/events/skin-world-wide-one-year-anniv
 ersary-celebration
DTSTART;TZID=America/Los_Angeles:20141108T210000
DTEND;TZID=America/Los_Angeles:20141109T020000
CATEGORIES:oakland, skin, global, world, music, tropical, bass, afroho
 use, afrobeat, soca, samba, salsa, dj, cecil, diaztek, emancipacion, s
 on, of, sōn, heaven, mousalem
LOCATION:Riddim, Oakland
WEBSITE:http://www.riddimdancehall.com
URL:http://www.riddimdancehall.com
CONTACT:(510) 394-2063
ORGANIZER;CN="miss candi":http://trueskool.com/profile/misscandi
ATTACH;FMTTYPE="image/jpeg":http://storage.ning.com/topology/rest/1.0/
 file/get/2247968977?profile=original
ATTENDEE;ROLE=REQ-PARTICIPANT;PARTSTAT=ACCEPTED;RSVP=TRUE;CN="miss can
 di":http://trueskool.com/profile/misscandi
END:VEVENT
END:VCALENDAR
