BEGIN:VCALENDAR
PRODID:NingEventWidget-v1
VERSION:2.0
METHOD:PUBLISH
BEGIN:VTIMEZONE
TZID:America/Los_Angeles
X-LIC-LOCATION:America/Los_Angeles
BEGIN:DAYLIGHT
TZOFFSETFROM:-0800
TZOFFSETTO:-0700
TZNAME:PDT
DTSTART:19700308T020000
RRULE:FREQ=YEARLY;BYMONTH=3;BYDAY=2SU
END:DAYLIGHT
BEGIN:STANDARD
TZOFFSETFROM:-0700
TZOFFSETTO:-0800
TZNAME:PST
DTSTART:19701101T020000
RRULE:FREQ=YEARLY;BYMONTH=11;BYDAY=1SU
END:STANDARD
END:VTIMEZONE
BEGIN:VEVENT
UID:1464587:Event:408528
DTSTAMP:20260420T090040Z
SUMMARY:SKIN Presents \"Love Is In The Air\" with DJ Cecil, Diaztek + 
 Much More!
DESCRIPTION:SKIN Presents: \"Love Is In The Air\"   In many cultures,
  dance teaches healthy social patterns, values, helps people work, mat
 ure, exchange praise, celebrate, learn history & poetry, encounter God
 s and heal. We dance to express our collective creativity, communal de
 sires and a shared love for the heaviest rhythms that speak directly t
 o the heart muscle.   “Love Is In The Air” is an evening to honor
  each other in a world that is ever changing. As we move through our c
 hallenges and migrate towards love, we invite music to be our guide. T
 ogether we’ll be journeying across continents and diasporas, celebra
 ting our bond as a people and dancing to an irresistible global groove
 .   Hosted By: Candi  FEATURING:  DJ Cecil (thePeople) Diaztek (Refu
 ge)  Live Percussion:  Soul Mojo Jeff Pierre  Visual Artist:  Gabrie
 lle Wilson - Sealy  Handmade Goods By: \nEarthTones Jewelry and Heali
 ng Arts\n Parliament \n811 Washington St.  Oakland, CA / 21 & Over  
 Doors 9pm, $5 ADV / $10 After Advance Tickets:  loveoakland.eventbrit
 e.com\n\nFor more information visit http://trueskool.com/events/skin-p
 resents-love-is-in-the-air-with-dj-cecil-diaztek-much-more
DTSTART;TZID=America/Los_Angeles:20140830T210000
DTEND;TZID=America/Los_Angeles:20140831T020000
CATEGORIES:oakland, ca, bay, area, downtown
LOCATION:Parliament
WEBSITE:http://loveoakland.eventbrite.com
URL:http://loveoakland.eventbrite.com
CONTACT:510.629.1855
ORGANIZER;CN="miss candi":http://trueskool.com/profile/misscandi
ATTACH;FMTTYPE="image/jpeg":http://storage.ning.com/topology/rest/1.0/
 file/get/2247965881?profile=original
ATTENDEE;ROLE=REQ-PARTICIPANT;PARTSTAT=ACCEPTED;RSVP=TRUE;CN="miss can
 di":http://trueskool.com/profile/misscandi
END:VEVENT
END:VCALENDAR
