BEGIN:VCALENDAR
PRODID:NingEventWidget-v1
VERSION:2.0
METHOD:PUBLISH
BEGIN:VTIMEZONE
TZID:America/Los_Angeles
X-LIC-LOCATION:America/Los_Angeles
BEGIN:DAYLIGHT
TZOFFSETFROM:-0800
TZOFFSETTO:-0700
TZNAME:PDT
DTSTART:19700308T020000
RRULE:FREQ=YEARLY;BYMONTH=3;BYDAY=2SU
END:DAYLIGHT
BEGIN:STANDARD
TZOFFSETFROM:-0700
TZOFFSETTO:-0800
TZNAME:PST
DTSTART:19701101T020000
RRULE:FREQ=YEARLY;BYMONTH=11;BYDAY=1SU
END:STANDARD
END:VTIMEZONE
BEGIN:VEVENT
UID:1464587:Event:675917
DTSTAMP:20260420T165739Z
SUMMARY:Sila
DESCRIPTION:ENTER TO WIN A PAIR OF TICKETS. WINNER WILL BE DRAWN RANDO
 MLY AND ANNOUNCED 2 DAYS PRIOR TO EVENT.\r\n \r\n\r\n SATURDAY, JULY 2
 1 \r\n SILA\r\n Lagos Roots\r\n Dona Francisca\r\n@ The Independent, S
 F\r\n 9:00 PM\r\n Tickets: $16 ADV - $20 DOOR\r\n >> BUY TICKETS\r\n\r
 \n\r\n\n\nFor more information visit http://trueskool.com/events/sila
DTSTART;TZID=America/Los_Angeles:20180721T210000
DTEND;TZID=America/Los_Angeles:20180721T230000
CATEGORIES:"bay area", "san francisco"
LOCATION:The Independent, San Francisco
WEBSITE:https://www.ticketfly.com/purchase/event/1672928?_ga=2.2307380
 15.1541054444.1530150564-2085289242.1530150564
URL:https://www.ticketfly.com/purchase/event/1672928?_ga=2.230738015.1
 541054444.1530150564-2085289242.1530150564
CONTACT:
ORGANIZER:Another Planet Ent
ATTACH;FMTTYPE="image/jpeg":http://storage.ning.com/topology/rest/1.0/
 file/get/2248006890?profile=original
ATTENDEE;ROLE=REQ-PARTICIPANT;PARTSTAT=ACCEPTED;RSVP=TRUE;CN="Editor's
  Pick":http://trueskool.com/profile/RentheVinylArchaeologist
END:VEVENT
END:VCALENDAR
