BEGIN:VCALENDAR
PRODID:NingEventWidget-v1
VERSION:2.0
METHOD:PUBLISH
BEGIN:VTIMEZONE
TZID:America/Los_Angeles
X-LIC-LOCATION:America/Los_Angeles
BEGIN:DAYLIGHT
TZOFFSETFROM:-0800
TZOFFSETTO:-0700
TZNAME:PDT
DTSTART:19700308T020000
RRULE:FREQ=YEARLY;BYMONTH=3;BYDAY=2SU
END:DAYLIGHT
BEGIN:STANDARD
TZOFFSETFROM:-0700
TZOFFSETTO:-0800
TZNAME:PST
DTSTART:19701101T020000
RRULE:FREQ=YEARLY;BYMONTH=11;BYDAY=1SU
END:STANDARD
END:VTIMEZONE
BEGIN:VEVENT
UID:1464587:Event:395921
DTSTAMP:20260421T034952Z
SUMMARY:Sierra Leone's Refugee All Stars
DESCRIPTION:\nVenue:\nThe Independent\n\nLocation:\nSan Francisco, CA\
 n\nShow Date:\nWednesday, September 10\n\nShow Time:\n8:00PM\n\nOn Sal
 e Date:\nFriday, June 20\n\nTicket Price:\n$20*plus applicable service
  feesTickets available at The Independent (628 Divisadero, SF) for no 
 service charge.\n\n\n\n\n\nFor more information visit http://trueskool
 .com/events/sierra-leone-s-refugee-all-stars
DTSTART;TZID=America/Los_Angeles:20140910T200000
DTEND;TZID=America/Los_Angeles:20140910T230000
CATEGORIES:"bay area, san francisco, oakland"
LOCATION:The Independent, San Francisco
WEBSITE:http://www.ticketfly.com/purchase/event/609929
URL:http://www.ticketfly.com/purchase/event/609929
CONTACT:
ORGANIZER;CN="Editor's Pick":http://trueskool.com/profile/RentheVinylA
 rchaeologist
ATTACH;FMTTYPE="image/jpeg":http://storage.ning.com/topology/rest/1.0/
 file/get/2247970445?profile=original
ATTENDEE;ROLE=REQ-PARTICIPANT;PARTSTAT=ACCEPTED;RSVP=TRUE;CN="Editor's
  Pick":http://trueskool.com/profile/RentheVinylArchaeologist
END:VEVENT
END:VCALENDAR
