BEGIN:VCALENDAR
PRODID:NingEventWidget-v1
VERSION:2.0
METHOD:PUBLISH
BEGIN:VTIMEZONE
TZID:America/Los_Angeles
X-LIC-LOCATION:America/Los_Angeles
BEGIN:DAYLIGHT
TZOFFSETFROM:-0800
TZOFFSETTO:-0700
TZNAME:PDT
DTSTART:19700308T020000
RRULE:FREQ=YEARLY;BYMONTH=3;BYDAY=2SU
END:DAYLIGHT
BEGIN:STANDARD
TZOFFSETFROM:-0700
TZOFFSETTO:-0800
TZNAME:PST
DTSTART:19701101T020000
RRULE:FREQ=YEARLY;BYMONTH=11;BYDAY=1SU
END:STANDARD
END:VTIMEZONE
BEGIN:VEVENT
UID:1464587:Event:26229
DTSTAMP:20260419T164338Z
SUMMARY:Showtime
DESCRIPTION:In The Dark Room,\nMayor Mike and G-Que Present:\nShowtime
 \nCheck out some of the best the bay has to offer\nMusic, Art, Dance\n
 \nSpecial DJ Set By:\nDJ G-Que\nShea\n\n\nPrice $5 All Night\nTime 9pm
 -2am\nMusic Hip-Hop, Rap\n\nFor more information visit http://trueskoo
 l.com/events/showtime-1
DTSTART;TZID=America/Los_Angeles:20090211T210000
DTEND;TZID=America/Los_Angeles:20090212T020000
CATEGORIES:hip, hop, rap
LOCATION:Club Six, Dark Room, San Francisco, CA
WEBSITE:http://www.clubsix1.com
URL:http://www.clubsix1.com
CONTACT:415-531-6593
ORGANIZER:Angel
ATTACH;FMTTYPE="image/jpeg":http://storage.ning.com/topology/rest/1.0/
 file/get/2247854609?profile=original
ATTENDEE;ROLE=REQ-PARTICIPANT;PARTSTAT=ACCEPTED;RSVP=TRUE;CN=Cecily:ht
 tp://trueskool.com/profile/Cecily
END:VEVENT
END:VCALENDAR
