BEGIN:VCALENDAR
PRODID:NingEventWidget-v1
VERSION:2.0
METHOD:PUBLISH
BEGIN:VTIMEZONE
TZID:America/Los_Angeles
X-LIC-LOCATION:America/Los_Angeles
BEGIN:DAYLIGHT
TZOFFSETFROM:-0800
TZOFFSETTO:-0700
TZNAME:PDT
DTSTART:19700308T020000
RRULE:FREQ=YEARLY;BYMONTH=3;BYDAY=2SU
END:DAYLIGHT
BEGIN:STANDARD
TZOFFSETFROM:-0700
TZOFFSETTO:-0800
TZNAME:PST
DTSTART:19701101T020000
RRULE:FREQ=YEARLY;BYMONTH=11;BYDAY=1SU
END:STANDARD
END:VTIMEZONE
BEGIN:VEVENT
UID:1464587:Event:675377
DTSTAMP:20260421T083310Z
SUMMARY:Sheck Wes + Valee
DESCRIPTION:Sheck Wes + Valee @ Slim's Mosh Tour\r\nTue, Jun 12, 2018 
 7:00 PM PDT Door 7 / Show 8\r\nSlim's 333 11th Street San Francisco, C
 A 94103\n\nFor more information visit http://trueskool.com/events/shec
 k-wes-valee
DTSTART;TZID=America/Los_Angeles:20180612T200000
DTEND;TZID=America/Los_Angeles:20180612T230000
CATEGORIES:"bay area", oakland, "san francisco", "san jose", berkeley
LOCATION:Slim's, San Francisco
WEBSITE:https://www.eventbrite.com/e/sheck-wes-valee-slims-mosh-tour-t
 ickets-45696836468
URL:https://www.eventbrite.com/e/sheck-wes-valee-slims-mosh-tour-ticke
 ts-45696836468
CONTACT:
ORGANIZER;CN="Editor's Pick":http://trueskool.com/profile/RentheVinylA
 rchaeologist
ATTACH;FMTTYPE="image/jpeg":http://storage.ning.com/topology/rest/1.0/
 file/get/2248006949?profile=original
ATTENDEE;ROLE=REQ-PARTICIPANT;PARTSTAT=ACCEPTED;RSVP=TRUE;CN="Editor's
  Pick":http://trueskool.com/profile/RentheVinylArchaeologist
END:VEVENT
END:VCALENDAR
