BEGIN:VCALENDAR
PRODID:NingEventWidget-v1
VERSION:2.0
METHOD:PUBLISH
BEGIN:VTIMEZONE
TZID:America/Los_Angeles
X-LIC-LOCATION:America/Los_Angeles
BEGIN:DAYLIGHT
TZOFFSETFROM:-0800
TZOFFSETTO:-0700
TZNAME:PDT
DTSTART:19700308T020000
RRULE:FREQ=YEARLY;BYMONTH=3;BYDAY=2SU
END:DAYLIGHT
BEGIN:STANDARD
TZOFFSETFROM:-0700
TZOFFSETTO:-0800
TZNAME:PST
DTSTART:19701101T020000
RRULE:FREQ=YEARLY;BYMONTH=11;BYDAY=1SU
END:STANDARD
END:VTIMEZONE
BEGIN:VEVENT
UID:1464587:Event:661776
DTSTAMP:20260420T214412Z
SUMMARY:SEU JORGE
DESCRIPTION:The Life Aquatic: A Tribute to David Bowie\nSEU JORGEFox T
 heaterOakland, CASaturday, June 24, 2017Show: 8:00pm\n$45.00 – Gener
 al Admission Floor$65.00 – Reserved Loge$45.00 – Reserved Balcony\
 n*plus applicable service feesTickets are also available service charg
 e free at The Fox Theater’s Box Office (located on the 19th street s
 ide of the theater) on show dates and on Fridays from noon – 7:00pm.
 For an additional $50.00, you can opt in to upgrade your experience to
  include VIP access to the exclusive Telegraph Room before, during and
  after the show!\nJoin us at The Den one hour before doors for Happy H
 our!\n\nFor more information visit http://trueskool.com/events/seu-jor
 ge-1
DTSTART;TZID=America/Los_Angeles:20170624T200000
DTEND;TZID=America/Los_Angeles:20170624T230000
CATEGORIES:"san francisco", oakland, berkley, "san jose", "bay area"
LOCATION:Fox Theater, Oakland
WEBSITE:http://www.ticketmaster.com/Fox-Theater-Oakland-tickets-Oaklan
 d/venue/229846?tm_link=edp_Venue_Name_1
URL:http://www.ticketmaster.com/Fox-Theater-Oakland-tickets-Oakland/ve
 nue/229846?tm_link=edp_Venue_Name_1
CONTACT:
ORGANIZER;CN="Editor's Pick":http://trueskool.com/profile/RentheVinylA
 rchaeologist
ATTACH;FMTTYPE="image/jpeg":http://storage.ning.com/topology/rest/1.0/
 file/get/2247995687?profile=original
ATTENDEE;ROLE=REQ-PARTICIPANT;PARTSTAT=ACCEPTED;RSVP=TRUE;CN="Editor's
  Pick":http://trueskool.com/profile/RentheVinylArchaeologist
END:VEVENT
END:VCALENDAR
