BEGIN:VCALENDAR
PRODID:NingEventWidget-v1
VERSION:2.0
METHOD:PUBLISH
BEGIN:VTIMEZONE
TZID:America/Los_Angeles
X-LIC-LOCATION:America/Los_Angeles
BEGIN:DAYLIGHT
TZOFFSETFROM:-0800
TZOFFSETTO:-0700
TZNAME:PDT
DTSTART:19700308T020000
RRULE:FREQ=YEARLY;BYMONTH=3;BYDAY=2SU
END:DAYLIGHT
BEGIN:STANDARD
TZOFFSETFROM:-0700
TZOFFSETTO:-0800
TZNAME:PST
DTSTART:19701101T020000
RRULE:FREQ=YEARLY;BYMONTH=11;BYDAY=1SU
END:STANDARD
END:VTIMEZONE
BEGIN:VEVENT
UID:1464587:Event:50922
DTSTAMP:20260422T064125Z
SUMMARY:Serani Live@New Karibbean City,
DESCRIPTION:\n\n\nFor more information visit http://trueskool.com/even
 ts/serani-livenew-karibbean-city
DTSTART;TZID=America/Los_Angeles:20100528T210000
DTEND;TZID=America/Los_Angeles:20100529T020000
CATEGORIES:"reggae/dancehall/funk"
LOCATION:New Karibbean City
WEBSITE:http://www.ticketweb.com
URL:http://www.ticketweb.com
CONTACT:916-519-1894
ORGANIZER;CN="square red":http://trueskool.com/profile/squarered
ATTACH;FMTTYPE="image/jpeg":http://storage.ning.com/topology/rest/1.0/
 file/get/2247876245?profile=original
ATTENDEE;ROLE=REQ-PARTICIPANT;PARTSTAT=ACCEPTED;RSVP=TRUE;CN="square r
 ed":http://trueskool.com/profile/squarered
END:VEVENT
END:VCALENDAR
