BEGIN:VCALENDAR
PRODID:NingEventWidget-v1
VERSION:2.0
METHOD:PUBLISH
BEGIN:VTIMEZONE
TZID:America/Los_Angeles
X-LIC-LOCATION:America/Los_Angeles
BEGIN:DAYLIGHT
TZOFFSETFROM:-0800
TZOFFSETTO:-0700
TZNAME:PDT
DTSTART:19700308T020000
RRULE:FREQ=YEARLY;BYMONTH=3;BYDAY=2SU
END:DAYLIGHT
BEGIN:STANDARD
TZOFFSETFROM:-0700
TZOFFSETTO:-0800
TZNAME:PST
DTSTART:19701101T020000
RRULE:FREQ=YEARLY;BYMONTH=11;BYDAY=1SU
END:STANDARD
END:VTIMEZONE
BEGIN:VEVENT
UID:1464587:Event:50917
DTSTAMP:20260422T091608Z
SUMMARY:Serani Live@Avalon Night Club May 27th
DESCRIPTION:\n\n\nFor more information visit http://trueskool.com/even
 ts/serani-liveavalon-night-club
DTSTART;TZID=America/Los_Angeles:20100527T210000
DTEND;TZID=America/Los_Angeles:20100528T020000
CATEGORIES:"reggae/dancehall/funk"
LOCATION:Avalon Night Club
WEBSITE:http://www.avalonsacramento.com
URL:http://www.avalonsacramento.com
CONTACT:916-519-1894
ORGANIZER;CN="square red":http://trueskool.com/profile/squarered
ATTACH;FMTTYPE="image/jpeg":http://storage.ning.com/topology/rest/1.0/
 file/get/2247876612?profile=original
ATTENDEE;ROLE=REQ-PARTICIPANT;PARTSTAT=ACCEPTED;RSVP=TRUE;CN="square r
 ed":http://trueskool.com/profile/squarered
END:VEVENT
END:VCALENDAR
