BEGIN:VCALENDAR
PRODID:NingEventWidget-v1
VERSION:2.0
METHOD:PUBLISH
BEGIN:VTIMEZONE
TZID:America/Los_Angeles
X-LIC-LOCATION:America/Los_Angeles
BEGIN:DAYLIGHT
TZOFFSETFROM:-0800
TZOFFSETTO:-0700
TZNAME:PDT
DTSTART:19700308T020000
RRULE:FREQ=YEARLY;BYMONTH=3;BYDAY=2SU
END:DAYLIGHT
BEGIN:STANDARD
TZOFFSETFROM:-0700
TZOFFSETTO:-0800
TZNAME:PST
DTSTART:19701101T020000
RRULE:FREQ=YEARLY;BYMONTH=11;BYDAY=1SU
END:STANDARD
END:VTIMEZONE
BEGIN:VEVENT
UID:1464587:Event:550029
DTSTAMP:20260420T232218Z
SUMMARY:Sen Dog (Los Angeles)
DESCRIPTION:\nDate\nLocation\nEvent Details\nFind Tickets\n\n\nAPR  
 \n4\nSAT\n\nViper RoomWest Hollywood, CA08:30 PM\n\nSen Dog (Of Cypre
 ss Hill) & FriendsDetails: Sen Dog\nSee Ticketson TicketWeb\n\n\n\n\n\
 n\n\n\n\n\n\n\n\n\n\n\n\n\n\n\n\n\n\nFor more information visit http:/
 /trueskool.com/events/sen-dog-los-angeles-1
DTSTART;TZID=America/Los_Angeles:20150404T203000
DTEND;TZID=America/Los_Angeles:20150404T230000
CATEGORIES:"los angeles", la, "west hollywood", california
LOCATION:Viper Room, Los Angeles
WEBSITE:http://www.ticketmaster.com/partner_redirect?v=H4EGMIbYm8FPHIl
 rJJ943tZYIzuteAOUQ3wS7xm2tbx2mF6_3lH2oF6R5R4-BU9y8iJfDzfmJmpmM8Z6-qzXm
 tR-63d1fFagXYv9pMADtJuX3okrye-F-LJoinL-WUxJ6xgRrrGWoPTNz2dHg6RE3qmOB8U
 ih95oL5dxJ8emJBJKjz0Pt-OyC38Tz-nuksKa4IS31Bcg1DzDRaRwRQ&eventid=29004E
 343A572934&artistid=856023&artistname=Sen%20Dog%20(Of%20Cypress%20Hill
 )%20&%20Friends&crosssite=TM_US:856023:74276
URL:http://www.ticketmaster.com/partner_redirect?v=H4EGMIbYm8FPHIlrJJ9
 43tZYIzuteAOUQ3wS7xm2tbx2mF6_3lH2oF6R5R4-BU9y8iJfDzfmJmpmM8Z6-qzXmtR-6
 3d1fFagXYv9pMADtJuX3okrye-F-LJoinL-WUxJ6xgRrrGWoPTNz2dHg6RE3qmOB8Uih95
 oL5dxJ8emJBJKjz0Pt-OyC38Tz-nuksKa4IS31Bcg1DzDRaRwRQ&eventid=29004E343A
 572934&artistid=856023&artistname=Sen%20Dog%20(Of%20Cypress%20Hill)%20
 &%20Friends&crosssite=TM_US:856023:74276
CONTACT:
ORGANIZER;CN="Editor's Pick":http://trueskool.com/profile/RentheVinylA
 rchaeologist
ATTACH;FMTTYPE="image/jpeg":http://storage.ning.com/topology/rest/1.0/
 file/get/2247973181?profile=original
ATTENDEE;ROLE=REQ-PARTICIPANT;PARTSTAT=ACCEPTED;RSVP=TRUE;CN="Editor's
  Pick":http://trueskool.com/profile/RentheVinylArchaeologist
END:VEVENT
END:VCALENDAR
