BEGIN:VCALENDAR
PRODID:NingEventWidget-v1
VERSION:2.0
METHOD:PUBLISH
BEGIN:VTIMEZONE
TZID:America/Los_Angeles
X-LIC-LOCATION:America/Los_Angeles
BEGIN:DAYLIGHT
TZOFFSETFROM:-0800
TZOFFSETTO:-0700
TZNAME:PDT
DTSTART:19700308T020000
RRULE:FREQ=YEARLY;BYMONTH=3;BYDAY=2SU
END:DAYLIGHT
BEGIN:STANDARD
TZOFFSETFROM:-0700
TZOFFSETTO:-0800
TZNAME:PST
DTSTART:19701101T020000
RRULE:FREQ=YEARLY;BYMONTH=11;BYDAY=1SU
END:STANDARD
END:VTIMEZONE
BEGIN:VEVENT
UID:1464587:Event:674186
DTSTAMP:20260420T232218Z
SUMMARY:Sellassie's The Rap Contest
DESCRIPTION: The Rap Contest is one of the most exciting live hip-hop
  shows in the country! The Rap Contest is a single elimination contest
 , where 32 contestants compete for a cash prize of $1000! Performing (
 1) minute and (30) thirty seconds each round, with a total of 5 rounds
 . The winner who eliminates 5 opponents after five rounds, wins the $1
 000 cash prize live on stage!! The Rap Contest is judged by a panel o
 f (3) three music industry professionals. Ranging from radio personali
 ties, A rappers Rapper, print, media and social media personalities to
  a local hometown favorite! \n            The Rap Contest promo
 tes, markets and exposes new rappers to new audiences city to city and
  state to state! Where the most lyrical, creative, progressives raps c
 ome to life on stage from some of the coolest artists that you just ha
 ven’t heard about yet! The Rap Contest is fast paced, exciting, ente
 rtaining and most of all FUN!!! All genres of rap music are accepted
 . EXCEPT (Negative, Violent or Gang Banging rap) PERIOD!!       
     Sellassie & The Rap Contest have produced The Rap Contest in; 
 Washington DC, Manhattan, Brooklyn, Hartford, Atlanta, Orlando, Housto
 n, Providence, Los Angeles, Seattle, San Francisco, Berkeley, Austin, 
 Chicago, Costa Mesa, Riverside, Carlsbad, San Bernardino, Santa Ana, A
 naheim, Sebastopol and Las Vegas! With new dates and cities everyday!
        The Rap Contest has given away over $93,000 in cash prizes 
 to our fellow independent hip-hop community to date. The Rap Contest i
 s $7,000 away from our grand prize total of $100,000 paid to the winne
 rs! The Rap Contest has had 119 winners since November 10th 2010, over
  2,500 artists have graced our stages, in over 20 cities and 10 differ
 ent states! \n         Sellassie, is the world’s first higher
 ground hip-hop artist; he is a social justice activist, entrepreneur, 
 event producer and political hip-hop pioneer.  Sellassie carved his 
 niche as a leading progressive hip-hop voice in the San Francisco Bay 
 Area hip-hop scene from 2006 to 2014. Sellassie is well respected in t
 he business from mainstream to underground hip-hop; and is a force to 
 be reckoned with as an independent producer of live hip-hop shows. Foc
 using on bringing independent artists together, to listen to each othe
 rs music and support one another’s movements! His popular saying to
  independent artists,” WE ALL WE GOT.” \nhttps://en.m.wikipedia.o
 rg/wiki/Frisco_Five\nhttp://pandora.com/Sellassie\n \n        Sig
 n Up TODAY!! If you have originally, stage presence and most important
 ly lyrical RAPS; The Rap Contest is a great place for your fans, famil
 y and friends to come see you perform LIVE on stage! \n\n\n\nFor more
  information visit http://trueskool.com/events/sellassie-s-the-rap-con
 test-2
DTSTART;TZID=America/Los_Angeles:20180713T183000
DTEND;TZID=America/Los_Angeles:20180713T234500
CATEGORIES:petaluma, "north bay", 707, "the phoenix theater"
LOCATION:The Phoenix Theater, Petaluma, CA
WEBSITE:http://therapcontest.bpt.me
URL:http://therapcontest.bpt.me
CONTACT:818-293-8079
ORGANIZER;CN="The Rap Contest":http://trueskool.com/profile/TheRapCont
 est
ATTACH;FMTTYPE="image/jpeg":http://storage.ning.com/topology/rest/1.0/
 file/get/2248006959?profile=original
ATTENDEE;ROLE=REQ-PARTICIPANT;PARTSTAT=ACCEPTED;RSVP=TRUE;CN="The Rap 
 Contest":http://trueskool.com/profile/TheRapContest
END:VEVENT
END:VCALENDAR
