BEGIN:VCALENDAR
PRODID:NingEventWidget-v1
VERSION:2.0
METHOD:PUBLISH
BEGIN:VTIMEZONE
TZID:America/Los_Angeles
X-LIC-LOCATION:America/Los_Angeles
BEGIN:DAYLIGHT
TZOFFSETFROM:-0800
TZOFFSETTO:-0700
TZNAME:PDT
DTSTART:19700308T020000
RRULE:FREQ=YEARLY;BYMONTH=3;BYDAY=2SU
END:DAYLIGHT
BEGIN:STANDARD
TZOFFSETFROM:-0700
TZOFFSETTO:-0800
TZNAME:PST
DTSTART:19701101T020000
RRULE:FREQ=YEARLY;BYMONTH=11;BYDAY=1SU
END:STANDARD
END:VTIMEZONE
BEGIN:VEVENT
UID:1464587:Event:627597
DTSTAMP:20260420T231744Z
SUMMARY:Saul Williams (WIN TICKETS)
DESCRIPTION:ENTER TO WIN A PAIR OF TICKETS. WINNER WILL BE DRAWN RANDO
 MLY AND ANNOUNCED 2 DAYS PRIOR TO EVENT. 2 PAIRS AVAILABLE \n Sat. A
 pril 25  Saul Williams (live band performance) Sons of an Illustrious 
 Father Haleek Maul\nSlim's - 333 11th St. SF  all ages (6+) doors 8pm/
 show 9pm Tickets are $22 advance/door   \n\nSaul Williams has been br
 eaking ground since his debut album Amethyst Rock Star in 2001, execut
 ive produced by Rick Rubin. After gaining global fame for his poetry a
 nd writings at the turn of the century, Williams has performed in over
  30 countries and read in over 300 universities, with invitations that
  have spanned from the White House, the Sydney Opera House, Lincoln Ce
 nter, The Louvre, The Getty Center, Queen Elizabeth Hall, to countless
 , villages, townships, community centers, and prisons across the world
 . The Newburgh, New York native gained a BA from Morehouse and an MFA 
 from Tisch, and has gone on to record with Nine Inch Nails and Allen G
 insberg, as well as countless film roles and television appearances.\n
 Written and recorded between Senegal, Reunion Island, Paris, Haiti, an
 d New Orleans and New York, Martyr Loser King is a new multimedia proj
 ect that engages the digital dialogue between the 1st and 3rd worlds, 
 and the global street sounds that yoke the two. \"In Senegal, I was bu
 ying iPhones for $20, Beats for $10, because they get all the influx f
 rom China, with no regulation,\" Williams explains. \"So everyone's on
 line. Everyone’s high tech.\" He sights Beyonce, Fredo Santana, and 
 Haitian field recordings as musical inspirations for his self-produced
  6th album, straining trap hi-hats and mbira strokes together for a nu
 anced, entirely original sound. \"I'm just letting you know what I'm r
 eading and seeing while I'm writing. When I'm writing, the music leads
 .\"\n\nFor more information visit http://trueskool.com/events/saul-wil
 liams
DTSTART;TZID=America/Los_Angeles:20150425T200000
DTEND;TZID=America/Los_Angeles:20150426T020000
CATEGORIES:"bay area", "san francisco"
LOCATION:Slim's, San Francisco
WEBSITE:http://tickets.slims-sf.com/events/489739/saul-williams-live-b
 and-performance-martyr-loser-kingdom-tour/
URL:http://tickets.slims-sf.com/events/489739/saul-williams-live-band-
 performance-martyr-loser-kingdom-tour/
CONTACT:
ORGANIZER:Slim's
ATTACH;FMTTYPE="image/jpeg":http://storage.ning.com/topology/rest/1.0/
 file/get/2247975860?profile=original
ATTENDEE;ROLE=REQ-PARTICIPANT;PARTSTAT=ACCEPTED;RSVP=TRUE;CN="Editor's
  Pick":http://trueskool.com/profile/RentheVinylArchaeologist
END:VEVENT
END:VCALENDAR
