BEGIN:VCALENDAR
PRODID:NingEventWidget-v1
VERSION:2.0
METHOD:PUBLISH
BEGIN:VTIMEZONE
TZID:America/Los_Angeles
X-LIC-LOCATION:America/Los_Angeles
BEGIN:DAYLIGHT
TZOFFSETFROM:-0800
TZOFFSETTO:-0700
TZNAME:PDT
DTSTART:19700308T020000
RRULE:FREQ=YEARLY;BYMONTH=3;BYDAY=2SU
END:DAYLIGHT
BEGIN:STANDARD
TZOFFSETFROM:-0700
TZOFFSETTO:-0800
TZNAME:PST
DTSTART:19701101T020000
RRULE:FREQ=YEARLY;BYMONTH=11;BYDAY=1SU
END:STANDARD
END:VTIMEZONE
BEGIN:VEVENT
UID:1464587:Event:823244
DTSTAMP:20260424T015423Z
SUMMARY:Sat Nov 4: Rhythmic Remedies DnB Party at Victory Hall (SF)
DESCRIPTION:Saturday, November 4, 2023\nRhythmic Remedies presents a n
 ight of Jungle and Drum&Bass with DJs Duchess (Church of Drum & Bass)\
 nOlly\nDJ Sep\nMF Mama\nand AdaloveBass\nat 360 Ritch Street, San Fran
 cisco, CA 94107 | (415) 543-4255 | www.victoryhallsf.com\n9 pm to 2 am
  - 21+ - $10 Advance - Tickets\nFB event\n Rhythmic Remedies is a Bay 
 Area-based DJ collective, celebrating music and community.  Bandcamp\n
 Facebook\nIG\n\nFor more information visit http://trueskool.com/events
 /sat-nov-4-rhythmic-remedies-dnb-party-at-victory-hall-sf
DTSTART;TZID=America/Los_Angeles:20231104T210000
DTEND;TZID=America/Los_Angeles:20231105T020000
CATEGORIES:"san francisco", "bay area", "victory hall &amp; parlor"
LOCATION:Victory Hall &amp; Parlor
WEBSITE:https://www.ticketfairy.com/event/rhythmic-remedies-4nov2023
URL:https://www.ticketfairy.com/event/rhythmic-remedies-4nov2023
CONTACT:415) 543-4255
ORGANIZER;CN="DJ SEP":http://trueskool.com/profile/DJSEP
ATTACH;FMTTYPE="image/jpeg":https://storage.ning.com/topology/rest/1.0
 /file/get/12243128279?profile=original
ATTENDEE;ROLE=REQ-PARTICIPANT;PARTSTAT=ACCEPTED;RSVP=TRUE;CN="DJ SEP":
 http://trueskool.com/profile/DJSEP
END:VEVENT
END:VCALENDAR
