BEGIN:VCALENDAR
PRODID:NingEventWidget-v1
VERSION:2.0
METHOD:PUBLISH
BEGIN:VTIMEZONE
TZID:America/Los_Angeles
X-LIC-LOCATION:America/Los_Angeles
BEGIN:DAYLIGHT
TZOFFSETFROM:-0800
TZOFFSETTO:-0700
TZNAME:PDT
DTSTART:19700308T020000
RRULE:FREQ=YEARLY;BYMONTH=3;BYDAY=2SU
END:DAYLIGHT
BEGIN:STANDARD
TZOFFSETFROM:-0700
TZOFFSETTO:-0800
TZNAME:PST
DTSTART:19701101T020000
RRULE:FREQ=YEARLY;BYMONTH=11;BYDAY=1SU
END:STANDARD
END:VTIMEZONE
BEGIN:VEVENT
UID:1464587:Event:626108
DTSTAMP:20260420T214444Z
SUMMARY:\"San Francisco Hearts Kenya\"
DESCRIPTION:Featuring:\nSILA Kenyan Funk, Soul\nNative Elements Reggae
 \nSambaxe Dance Company Samba\nZena Afro-Folk\nDJ Cecil Soukous, Soca,
  Afro-House\nDJ Mpenzi Kenyan Funk, Soul\n \nThe Chapel\n777 Valencia
  Street\nSan Francisco, CA 94114\nDoors 8pm - 2am // 21+\nTickets: $17
  Advance, $20 Doors\nhttps://www.ticketfly.com/purchase/event/820191\n
 \n\nOn 2 April 2015, gunmen stormed the Garissa University College in 
 Garissa, Kenya, killing at least 148 people, and injuring 79 or more. 
 The militant group Al-Shabaab took responsibility for the attack.  \n
  \nIn response to the attack, the Doctors Without Borders/Médecins S
 ans Frontières (MSF) medical team provided support to the Kenyan Mini
 stry of Health at Garissa Hospital. MSF treated survivors of the attac
 k who suffered from gunshot and blast wounds, as well as people those 
 who sustained cut injuries from shattered glass during their escape.\n
  \nIn keeping with the Bay Area’s music community’s longstanding 
 tradition of coming together to help those who are in need, Kenyan Afr
 o-pop artist and NAACP Image Award winner Sila, a frequent supporter o
 f humanitarian causes, has organized a benefit concert for Doctors Wit
 hout Borders boasting some of the Bay Area’s best bands, DJ’s and 
 solo artists.\n The show, called “San Francisco Hearts Kenya,” tak
 es place at the Chapel April 30th; confirmed artists include SILA, Nat
 ive Elements, Sambaxé Dance-Company, Zéna and DJ’s Mpenzi & Cecil.
  This stellar lineup incorporates a diverse mix of genres and musical 
 styles: Afrobeat, Samba, funk , reggae, soul, and more.\n\nFor more in
 formation visit http://trueskool.com/events/san-francisco-hearts-kenya
DTSTART;TZID=America/Los_Angeles:20150430T200000
DTEND;TZID=America/Los_Angeles:20150501T010000
CATEGORIES:san, francisco, ca, usa
LOCATION:The Chapel, San Francisco, CA
WEBSITE:https://www.ticketfly.com/purchase/event/820191
URL:https://www.ticketfly.com/purchase/event/820191
CONTACT:(877) 435-9849
ORGANIZER;CN="miss candi":http://trueskool.com/profile/misscandi
ATTACH;FMTTYPE="image/jpeg":http://storage.ning.com/topology/rest/1.0/
 file/get/2247976436?profile=original
ATTENDEE;ROLE=REQ-PARTICIPANT;PARTSTAT=ACCEPTED;RSVP=TRUE;CN="miss can
 di":http://trueskool.com/profile/misscandi
END:VEVENT
END:VCALENDAR
