BEGIN:VCALENDAR
PRODID:NingEventWidget-v1
VERSION:2.0
METHOD:PUBLISH
BEGIN:VTIMEZONE
TZID:America/Los_Angeles
X-LIC-LOCATION:America/Los_Angeles
BEGIN:DAYLIGHT
TZOFFSETFROM:-0800
TZOFFSETTO:-0700
TZNAME:PDT
DTSTART:19700308T020000
RRULE:FREQ=YEARLY;BYMONTH=3;BYDAY=2SU
END:DAYLIGHT
BEGIN:STANDARD
TZOFFSETFROM:-0700
TZOFFSETTO:-0800
TZNAME:PST
DTSTART:19701101T020000
RRULE:FREQ=YEARLY;BYMONTH=11;BYDAY=1SU
END:STANDARD
END:VTIMEZONE
BEGIN:VEVENT
UID:1464587:Event:610993
DTSTAMP:20260420T170039Z
SUMMARY:SambaFunk! Sunday(s) #sambachurch
DESCRIPTION:SambaFunk! Carnaval Explosion w/ King Theo is the Bay Area
 's dance wellness funk fitness activity for adults of all ages. SambaF
 unk! is more than a dance class, its a dance experience. Sunday sessio
 ns include formal dance technique training, dance history, singing, rh
 ythmic training, across the floor dancing, live drumming and community
  building activities.   SambaFunk! Sunday, commonly refereed to as \"
 Samba Church\" is an powerful way to end the weekend and start the wee
 k. Classes are held in the large and beautifully naturally light secon
 d floor studio of the historic Malonga Casquelourd Center for the Arts
 . SambaFunk! Artistic Director King Theo Aythan Williams leds the danc
 e instruction and the FunkTyme Playahs provide live drums each and eve
 ry sunday.\nWeekly Classes also on: \nMondays @ African American Art 
 & Culture Complex \n762 Fulton Ave San Francisco - Western Addition 
 \n6pm -7:30pm $12 LIVE Drums / BART accessible \n\nWednesday's @ Dest
 iny Arts Center \n670 Grace Ave North Oakland \n6:30pm - 7:45pm / BA
 RT accessible \n#dancewellness #funkfitness #sambachurch #sambafunkba
 by\n\nFor more information visit http://trueskool.com/events/sambafunk
 -sunday-s-sambachurch
DTSTART;TZID=America/Los_Angeles:20150308T160000
DTEND;TZID=America/Los_Angeles:20150531T180000
CATEGORIES:dance, fitness, live, drums, brasilian, wellness, funk, sam
 ba, oakland, san, francisco
LOCATION:Malonga Center for the Arts, Oakland
WEBSITE:http://paypal.com
URL:http://paypal.com
CONTACT:510.451.6100
ORGANIZER:SambaFunk! Carnaval Explosion w/ King Theo
ATTACH;FMTTYPE="image/jpeg":http://storage.ning.com/topology/rest/1.0/
 file/get/2247974107?profile=original
ATTENDEE;ROLE=REQ-PARTICIPANT;PARTSTAT=ACCEPTED;RSVP=TRUE;CN="SambaFun
 k! w/ King Theo":http://trueskool.com/profile/SambaFunkwKingTheo
END:VEVENT
END:VCALENDAR
