BEGIN:VCALENDAR
PRODID:NingEventWidget-v1
VERSION:2.0
METHOD:PUBLISH
BEGIN:VTIMEZONE
TZID:America/Los_Angeles
X-LIC-LOCATION:America/Los_Angeles
BEGIN:DAYLIGHT
TZOFFSETFROM:-0800
TZOFFSETTO:-0700
TZNAME:PDT
DTSTART:19700308T020000
RRULE:FREQ=YEARLY;BYMONTH=3;BYDAY=2SU
END:DAYLIGHT
BEGIN:STANDARD
TZOFFSETFROM:-0700
TZOFFSETTO:-0800
TZNAME:PST
DTSTART:19701101T020000
RRULE:FREQ=YEARLY;BYMONTH=11;BYDAY=1SU
END:STANDARD
END:VTIMEZONE
BEGIN:VEVENT
UID:1464587:Event:676779
DTSTAMP:20260420T152221Z
SUMMARY:Rudy Colombini Band opening for Unauthorized Rolling Stones
DESCRIPTION:Rudy Colombini Band:  For the past 30 years, singer-songw
 riter Rudy Colombini has been composing songs from rock’n roll to bl
 ues, from energetic themes to romantic tunes. Since his early years, i
 nspired by some of the greatest of all times such as John Lennon, Ray 
 Davies and Elvis Presley, Rudy has been translating feelings into song
 s. His catalog now contains over 200 original compositions. Rudy Colom
 bini’s songwriting skills taps into the most relevant earthly topics
  centered around love and spirituality.   The Unauthorized Rolling St
 ones:  Since their beginning in 2001, Rudy Colombini & The Unauthoriz
 ed Rolling Stones have brought the excitement, energy, and all the hit
 s of a live Rolling Stones show to stages across the country. Their sh
 ow holds in reverence many legends of the classic rock years, while ma
 intaining their Rolling Stones core. Colombini’s staggering, Jaggere
 sque showmanship is hands down the best salute to Mick. Colombini, who
  has seen the Rolling Stones live 20 times said. “It’s been a deep
  drill into little nuances and movement. Frankly, it’s nearly imposs
 ible to find a better mentor than Mick Jagger for a performer. He’s 
 an incredible entity.” “It’s a big show,” Colombini added, “
 A real Rock and Roll event.” It appears that with Rudy Colombini & T
 he Unauthorized Rolling Stones coming to San Rafael, you CAN get some 
 Satisfaction! \n\nFor more information visit http://trueskool.com/eve
 nts/rudy-colombini-band-opening-for-unauthorized-rolling-stones
DTSTART;TZID=America/Los_Angeles:20180721T200000
DTEND;TZID=America/Los_Angeles:20180722T000000
CATEGORIES:"san rafael", bayarea
LOCATION:Fenix, San Rafael, CA
WEBSITE:https://fenixlive.com/show/unauthorized-rolling-stones-7/
URL:https://fenixlive.com/show/unauthorized-rolling-stones-7/
CONTACT:415.813.5600
ORGANIZER;CN="Phillip Ranelli":http://trueskool.com/profile/PhillipRan
 elli
ATTACH;FMTTYPE="image/jpeg":http://storage.ning.com/topology/rest/1.0/
 file/get/2248007916?profile=original
ATTENDEE;ROLE=REQ-PARTICIPANT;PARTSTAT=TENTATIVE;RSVP=TRUE;CN="Phillip
  Ranelli":http://trueskool.com/profile/PhillipRanelli
END:VEVENT
END:VCALENDAR
