BEGIN:VCALENDAR
PRODID:NingEventWidget-v1
VERSION:2.0
METHOD:PUBLISH
BEGIN:VTIMEZONE
TZID:America/Los_Angeles
X-LIC-LOCATION:America/Los_Angeles
BEGIN:DAYLIGHT
TZOFFSETFROM:-0800
TZOFFSETTO:-0700
TZNAME:PDT
DTSTART:19700308T020000
RRULE:FREQ=YEARLY;BYMONTH=3;BYDAY=2SU
END:DAYLIGHT
BEGIN:STANDARD
TZOFFSETFROM:-0700
TZOFFSETTO:-0800
TZNAME:PST
DTSTART:19701101T020000
RRULE:FREQ=YEARLY;BYMONTH=11;BYDAY=1SU
END:STANDARD
END:VTIMEZONE
BEGIN:VEVENT
UID:1464587:Event:652186
DTSTAMP:20260420T191748Z
SUMMARY:ROQY TYRAID Tour LIVE in Oakland
DESCRIPTION:The Dichotomy of Roqy Tyraid Tour w/ Special Guests\nPauli
 e Rhyme\nFlo J Simpson\nKayer & Kenneth Masters\nDJ S.T.A.T.I.K\n$5 Ad
 v Special\n$7 Door\nAu Lounge in Oakland 2430 Broadway Ave.\nDoors ope
 n at 8:30\nShow starts at 9pm\nRoqy Tyraid via www.thecultureisback.co
 m\nWhile most artists prefer to repeat the same formula ad nauseam, ou
 r own New Millennium Man , otherwise known as RoQ’y TyRaiD (prn. Roc
 ky Tirade) strives to advance himself in as many creative ways as poss
 ible while adhering to the strict quality-code of “dope beats / dope
  rhymes”. Whether he’s effortlessly racing through aggressive beat
 s, with the intensity of his execution only matched by the seemingly i
 ntrinsic ability to flow in and round each pocket; playfully expressin
 g himself over light-hearted, soulful sounds; or using his unique abil
 ity at sprinkling social commentary in his work to spark dialogue and 
 channel the human experience — one thing is for certain: CONTENT. Ro
 Q’y TyRaiD has mastered the art of molding lyricism, a perfected ear
  for beats into absolute standout material, leaving you immersed in a 
 colorful world courtesy of his own vivid imagination.\nChampion of the
  everyman. Universally relatable. He is YOUR perspective. Golden era e
 ssence with a standout, contemporary edge.\n---------------\nPauline R
 hyme via www.paulierhyme.net\nPAULIE RHYME is a Japan based; Cleveland
 /Bay Area bred emcee, giving people music that touches mind, body, and
  spirit. As front man for live alternative Hip Hop outfits FINLESS BRO
 WN (w. Motown on Mondays founder DJ GORDO CABEZA), MILES OUTSIDE, and 
 SOLGANIX Paulie Rhyme honed his craft and his style on the stage and o
 n the road in the early 2000s, doing shows in the US, Canada, and Japa
 n. This would show itself in his first solo 12” releases with Hip Ho
 p legends DJ LORD JAZZ (LOTUG) and PRINCE PO (ORGANIZED KONFUSION), as
  well as the LESS THAN ZERO mix tape series, a series of projects pres
 ented by acclaimed tastemaker, radio/mix tape dj MICK (VIVA LA HOVA, S
 IRIUS) that featured collaborations with RAASHAN AHMAD (CCR), DJ VINRO
 C, KEELAY & ZAIRE, KING MOST, KNOBODY, REY RESURRECCION, and more.\nBe
 ing based in the BAY AREA, CA would prove to be an invaluable experien
 ce for RHYME and in 2007, RHYME would release PUBLIC RADIO, a collabor
 ative effort with SF producer DEEDOT, featuring appearances by RASCO (
 CALI AGENTS), TABLEEK (MASPYKE), and MOTO. PUBLIC RADIO would hit #9 o
 n the CMJ Hip Hop charts, and the single, SQUARED CIRCLE, would be nom
 inated for 2009 Hip Hop Song of the Year by Just Plain Folks. 2009 als
 o saw the release of the DJ SLY project, BEYOND IT, with PAULIE RHYME 
 featured on the single \"LIKE YOU\" with KAORU, hitting #4 on ITunes J
 apan's Hip Hop Chart. RHYME would continue to expand in the internatio
 nal market working with Austria’s SOUND TRUCK, Canada’s ATHERTON, 
 Norway’s HANDYCAT, Japan’s TOFUBEATS, NOMAK & KAZAHAYA, while delv
 ing into the Dubstep/DnB arena with BACHELOR’S OF SCIENCE’S LUKEIN
 O, ATLANTIC CONNECTION, & DUBSWORTH. Recently relocating to Japan full
  time to be closer to family, Rhyme has continued to work on his craft
 , rock shows, collaborate with talented musicians, and put out positiv
 e, forward thinking Hip Hop. His latest solo project, the SuperStringT
 heory Ep, produced by BLUEPRINT (Soul Position/Rhymesayers), is a test
 ament to where Paulie Rhyme has come from and where the music is takin
 g him.\n\nFor more information visit http://trueskool.com/events/roqy-
 tyraid-tour-live-in-oakland
DTSTART;TZID=America/Los_Angeles:20160825T210000
DTEND;TZID=America/Los_Angeles:20160826T010000
CATEGORIES:oakland, hiphop, bay, area, events, san, francisco, shows, 
 august
LOCATION:Au Lounge
WEBSITE:http://www.roqytyraid.brownpapertickets.com
URL:http://www.roqytyraid.brownpapertickets.com
CONTACT:
ORGANIZER:We In The Place
ATTACH;FMTTYPE="image/jpeg":http://storage.ning.com/topology/rest/1.0/
 file/get/2247990991?profile=original
ATTENDEE;ROLE=REQ-PARTICIPANT;PARTSTAT=ACCEPTED;RSVP=TRUE;CN=Suyen:htt
 p://trueskool.com/profile/Suyen
END:VEVENT
END:VCALENDAR
