BEGIN:VCALENDAR
PRODID:NingEventWidget-v1
VERSION:2.0
METHOD:PUBLISH
BEGIN:VTIMEZONE
TZID:America/Los_Angeles
X-LIC-LOCATION:America/Los_Angeles
BEGIN:DAYLIGHT
TZOFFSETFROM:-0800
TZOFFSETTO:-0700
TZNAME:PDT
DTSTART:19700308T020000
RRULE:FREQ=YEARLY;BYMONTH=3;BYDAY=2SU
END:DAYLIGHT
BEGIN:STANDARD
TZOFFSETFROM:-0700
TZOFFSETTO:-0800
TZNAME:PST
DTSTART:19701101T020000
RRULE:FREQ=YEARLY;BYMONTH=11;BYDAY=1SU
END:STANDARD
END:VTIMEZONE
BEGIN:VEVENT
UID:1464587:Event:551822
DTSTAMP:20260421T011001Z
SUMMARY:Schoolboy Q (Miami)
DESCRIPTION:\nDate\nLocation\nEvent Details\nFind Tickets\n\n\nFEB  
 \n28\nSAT\n\nSoho StudiosMiami, FL 01:00 PM\n\nRolling Loud Festival\
 nSee Ticketson TicketWeb\n\n\n\n\n\nFor more information visit http://
 trueskool.com/events/rolling-loud-miami
DTSTART;TZID=America/Los_Angeles:20150228T130000
DTEND;TZID=America/Los_Angeles:20150228T230000
CATEGORIES:miami, florida, fla, mia
LOCATION:Soho Studios, Miami
WEBSITE:http://www.ticketmaster.com/partner_redirect?v=DTB97pLJYM3FKC0
 iAM2d9cyIE2oWsBBCah9dhpJc0Gi1SSoHauIRthB-KdwycTrAwJNsTH3phsqdCFPltX498
 On1T--Rxwzy9uJjrd7xM0uAonMCMZbGiVnv8kAlnN4quMVg9sKpKYtBKnYTSEEspCSdhlV
 g7cDBnkFFCd3GUnhJsx8Q3wJRLCbMxTko-O8frt3vCXorDm6_Q3gxdA&eventid=29004E
 2CEB159AAD&artistid=2076638&artistname=Rolling%20Loud%20Festival&cross
 site=TM_US:2076638:338963
URL:http://www.ticketmaster.com/partner_redirect?v=DTB97pLJYM3FKC0iAM2
 d9cyIE2oWsBBCah9dhpJc0Gi1SSoHauIRthB-KdwycTrAwJNsTH3phsqdCFPltX498On1T
 --Rxwzy9uJjrd7xM0uAonMCMZbGiVnv8kAlnN4quMVg9sKpKYtBKnYTSEEspCSdhlVg7cD
 BnkFFCd3GUnhJsx8Q3wJRLCbMxTko-O8frt3vCXorDm6_Q3gxdA&eventid=29004E2CEB
 159AAD&artistid=2076638&artistname=Rolling%20Loud%20Festival&crosssite
 =TM_US:2076638:338963
CONTACT:
ORGANIZER;CN="Editor's Pick":http://trueskool.com/profile/RentheVinylA
 rchaeologist
ATTACH;FMTTYPE="image/jpeg":http://storage.ning.com/topology/rest/1.0/
 file/get/2247976617?profile=original
ATTENDEE;ROLE=REQ-PARTICIPANT;PARTSTAT=ACCEPTED;RSVP=TRUE;CN="Editor's
  Pick":http://trueskool.com/profile/RentheVinylArchaeologist
END:VEVENT
END:VCALENDAR
