BEGIN:VCALENDAR
PRODID:NingEventWidget-v1
VERSION:2.0
METHOD:PUBLISH
BEGIN:VTIMEZONE
TZID:America/Los_Angeles
X-LIC-LOCATION:America/Los_Angeles
BEGIN:DAYLIGHT
TZOFFSETFROM:-0800
TZOFFSETTO:-0700
TZNAME:PDT
DTSTART:19700308T020000
RRULE:FREQ=YEARLY;BYMONTH=3;BYDAY=2SU
END:DAYLIGHT
BEGIN:STANDARD
TZOFFSETFROM:-0700
TZOFFSETTO:-0800
TZNAME:PST
DTSTART:19701101T020000
RRULE:FREQ=YEARLY;BYMONTH=11;BYDAY=1SU
END:STANDARD
END:VTIMEZONE
BEGIN:VEVENT
UID:1464587:Event:551343
DTSTAMP:20260421T040106Z
SUMMARY:Roberta Flack (Miami)
DESCRIPTION:\nDate\nLocation\nEvent Details\nFind Tickets\n\n\nAPR  
 \n24\nFRI\n\nAu-Rene Theater at the Broward Center Ft Lauderdale, FL
 08:00 PM\n\nRoberta Flack\nSee Tic\n\n\n\n\nFor more information visit
  http://trueskool.com/events/roberta-flack-miami
DTSTART;TZID=America/Los_Angeles:20150424T200000
DTEND;TZID=America/Los_Angeles:20150424T230000
CATEGORIES:miami, florida, fla, "ft. lauderdale"
LOCATION:Au-Rene Theater at the Broward Center, Ft. Lauderdale
WEBSITE:http://www.ticketmaster.com/roberta-flack-ft-lauderdale-florid
 a-04-24-2015/event/0D004D468FBF6856?artistid=806213&majorcatid=10001&m
 inorcatid=202&tm_link=artist_msg-0_0D004D468FBF6856
URL:http://www.ticketmaster.com/roberta-flack-ft-lauderdale-florida-04
 -24-2015/event/0D004D468FBF6856?artistid=806213&majorcatid=10001&minor
 catid=202&tm_link=artist_msg-0_0D004D468FBF6856
CONTACT:
ORGANIZER;CN="Editor's Pick":http://trueskool.com/profile/RentheVinylA
 rchaeologist
ATTACH;FMTTYPE="image/jpeg":http://storage.ning.com/topology/rest/1.0/
 file/get/2247973240?profile=original
ATTENDEE;ROLE=REQ-PARTICIPANT;PARTSTAT=ACCEPTED;RSVP=TRUE;CN="Editor's
  Pick":http://trueskool.com/profile/RentheVinylArchaeologist
END:VEVENT
END:VCALENDAR
