BEGIN:VCALENDAR
PRODID:NingEventWidget-v1
VERSION:2.0
METHOD:PUBLISH
BEGIN:VTIMEZONE
TZID:America/Los_Angeles
X-LIC-LOCATION:America/Los_Angeles
BEGIN:DAYLIGHT
TZOFFSETFROM:-0800
TZOFFSETTO:-0700
TZNAME:PDT
DTSTART:19700308T020000
RRULE:FREQ=YEARLY;BYMONTH=3;BYDAY=2SU
END:DAYLIGHT
BEGIN:STANDARD
TZOFFSETFROM:-0700
TZOFFSETTO:-0800
TZNAME:PST
DTSTART:19701101T020000
RRULE:FREQ=YEARLY;BYMONTH=11;BYDAY=1SU
END:STANDARD
END:VTIMEZONE
BEGIN:VEVENT
UID:1464587:Event:131734
DTSTAMP:20260420T153132Z
SUMMARY:Roach Gigz / Main Attrakionz / A-1 / Baby E / DJ Nima Fadavi -
  Fri. Sept. 7 at Slim's - all ages!
DESCRIPTION:Selected as one of 106 KMEL's Top 10 Freshman Rappers of t
 he Bay Area, 21-year-old San Francisco native Roach Gigz has gone from
  virtually unknown to one of the hottest artists on the West Coast. Bo
 rn and raised in the Bay Area, Roach was conceived in Nicaragua during
  the Contra and Sandinista war. Named after a combination of the chara
 cter Roach from the movie Next Friday and his high school days dancing
  skills, Roach Gigz first gained local fame with close friend Lil 4Tay
  as one half of the group Bitch I Go (B.I.G.). Now, after two successf
 ul Roachy Balboa mixtapes, a mtvU Freshmen 5 victory and a MTV2 Sucker
  Free feature under his belt, Roach has just released his latest mixta
 pe, Bitch, I'm A Player. Roachy recently made his first four projects 
 available for the first time in CD format for a limited time at http:/
 /roachgigz.com/. Roach's next project will be his official debut album
 , Bugged Out, due on August 21st.\n\nFor more information visit http:/
 /trueskool.com/events/roach-gigz-main-attrakionz-a-1-baby-e-dj-nima-fa
 davi-fri-sept-7
DTSTART;TZID=America/Los_Angeles:20120907T210000
DTEND;TZID=America/Los_Angeles:20120908T010000
CATEGORIES:san, francisco
LOCATION:Slim's, San Francisco
WEBSITE:http://www.slimspresents.com
URL:http://www.slimspresents.com
CONTACT:(415) 255-0333
ORGANIZER;CN=Tracey:http://trueskool.com/profile/Tracey
ATTACH;FMTTYPE="image/jpeg":http://storage.ning.com/topology/rest/1.0/
 file/get/2247922349?profile=original
ATTENDEE;ROLE=REQ-PARTICIPANT;PARTSTAT=ACCEPTED;RSVP=TRUE;CN=Tracey:ht
 tp://trueskool.com/profile/Tracey
END:VEVENT
END:VCALENDAR
