BEGIN:VCALENDAR
PRODID:NingEventWidget-v1
VERSION:2.0
METHOD:PUBLISH
BEGIN:VTIMEZONE
TZID:America/Los_Angeles
X-LIC-LOCATION:America/Los_Angeles
BEGIN:DAYLIGHT
TZOFFSETFROM:-0800
TZOFFSETTO:-0700
TZNAME:PDT
DTSTART:19700308T020000
RRULE:FREQ=YEARLY;BYMONTH=3;BYDAY=2SU
END:DAYLIGHT
BEGIN:STANDARD
TZOFFSETFROM:-0700
TZOFFSETTO:-0800
TZNAME:PST
DTSTART:19701101T020000
RRULE:FREQ=YEARLY;BYMONTH=11;BYDAY=1SU
END:STANDARD
END:VTIMEZONE
BEGIN:VEVENT
UID:1464587:Event:122640
DTSTAMP:20260420T103013Z
SUMMARY:Ritual Dubstep Los Angeles: June 2nd-Helicopter Showdown, Dumb
 steppaz, AAA, and Taso
DESCRIPTION:Ritual is back and this lineup is one that will get you sw
 eaty and filthy. The best of the Bay to LA will be dropping some major
  tunes on our thumping subs.This event is not possible without the mus
 ic lovers that join us. Ritual has had legendary performers grace theÂ
  DJ booth as well as given many new comers the chance to shine and sha
 re their gift.\"This is an experience that is fueled by you. The Ritua
 l family is one that is ever growing and we strive to make everyone fe
 el welcome, whether you are a newbie, or a long time die hard. If you 
 have never been to one of our events, feel free to make yourself at ho
 me and introduce yourself to the crew. BIG LOVE!!!--------------------
 ---------------------------This month we welcome the following selecto
 rs:Set times:1am-2am: Helicopter Showdown12am-1am: Dumbsteppaz11pm-12a
 m: AAA10pm-11pm: TasoThis monthly event will take place every first Sa
 turday at Dragonfly. The address is 6510 Santa Monica Blvd in Los Ange
 les. Hours are from 10pm-2am for the 21+.Free if you are in line befor
 e 10pm.$10 after 10pm.*Safe Downtown Neighborhood*No Dress Code*Multip
 le Bars Open*Outdoor Smoking Patio Where Drinks Are Allowed*Drink Spec
 ials*Lots Of Parking*Free Water Available*Big Dance Floor*****If you j
 ust turned 21 in the last week, show us your ID and your first drink i
 s on us.*****Painters and artists of any medium are welcome to set up 
 and create during the evening. Anyone is invited to set up and share t
 heir gift with others we just ask that you show up early to set up, ke
 ep lights filtered onto your canvas only (we like our dance floor dark
 ), and make sure a tarp is down to not damage the club floor.Â Pre-sal
 e tickets are available on the club's website.http://www.thedragonfly.
 com/Facebook Event Link:Â http://www.facebook.com/events/3712656229153
 86\n\nFor more information visit http://trueskool.com/events/ritual-du
 bstep-los-angeles-june-2nd-helicopter-showdown
DTSTART;TZID=America/Los_Angeles:20120602T220000
DTEND;TZID=America/Los_Angeles:20120603T020000
CATEGORIES:los, angeles, ca
LOCATION:Dragonfly LA
WEBSITE:http://www.thedragonfly.com/
URL:http://www.thedragonfly.com/
CONTACT:
ORGANIZER;CN="Nebakaneza Nebakaneza":http://trueskool.com/profile/Neba
 kanezaNebakaneza
ATTACH;FMTTYPE="image/jpeg":http://storage.ning.com/topology/rest/1.0/
 file/get/2247915996?profile=original
ATTENDEE;ROLE=REQ-PARTICIPANT;PARTSTAT=ACCEPTED;RSVP=TRUE;CN="Nebakane
 za Nebakaneza":http://trueskool.com/profile/NebakanezaNebakaneza
END:VEVENT
END:VCALENDAR
