BEGIN:VCALENDAR
PRODID:NingEventWidget-v1
VERSION:2.0
METHOD:PUBLISH
BEGIN:VTIMEZONE
TZID:America/Los_Angeles
X-LIC-LOCATION:America/Los_Angeles
BEGIN:DAYLIGHT
TZOFFSETFROM:-0800
TZOFFSETTO:-0700
TZNAME:PDT
DTSTART:19700308T020000
RRULE:FREQ=YEARLY;BYMONTH=3;BYDAY=2SU
END:DAYLIGHT
BEGIN:STANDARD
TZOFFSETFROM:-0700
TZOFFSETTO:-0800
TZNAME:PST
DTSTART:19701101T020000
RRULE:FREQ=YEARLY;BYMONTH=11;BYDAY=1SU
END:STANDARD
END:VTIMEZONE
BEGIN:VEVENT
UID:1464587:Event:90249
DTSTAMP:20260420T151947Z
SUMMARY:RISING LION + SAHRA INDIO
DESCRIPTION:Rising lion performing live!\n\n“Feelin Irie” the firs
 t single from the upcoming Changes album was released on May 18, 2010 
 on Klem Records, with worldwide distribution by L G N Entertainment Di
 stribution Inc. It can be purchased on I-tunes and various other sites
  and stores. Changes is the fourth R L effort and is scheduled for rel
 ease sometime in 2011.\n\nFor more information visit http://trueskool.
 com/events/rising-lion-sahra-indio
DTSTART;TZID=America/Los_Angeles:20110721T210000
DTEND;TZID=America/Los_Angeles:20110721T230000
CATEGORIES:berkeley, ca
LOCATION:Ashkenaz, Berkeley
WEBSITE:http://www.ashkenaz.com
URL:http://www.ashkenaz.com
CONTACT:510-525-5054
ORGANIZER:joe balestreri
ATTACH;FMTTYPE="image/jpeg":http://storage.ning.com/topology/rest/1.0/
 file/get/2247899080?profile=original
ATTENDEE;ROLE=REQ-PARTICIPANT;PARTSTAT=ACCEPTED;RSVP=TRUE;CN="renee su
 lli":http://trueskool.com/profile/reneesulli
END:VEVENT
END:VCALENDAR
