BEGIN:VCALENDAR
PRODID:NingEventWidget-v1
VERSION:2.0
METHOD:PUBLISH
BEGIN:VTIMEZONE
TZID:America/Los_Angeles
X-LIC-LOCATION:America/Los_Angeles
BEGIN:DAYLIGHT
TZOFFSETFROM:-0800
TZOFFSETTO:-0700
TZNAME:PDT
DTSTART:19700308T020000
RRULE:FREQ=YEARLY;BYMONTH=3;BYDAY=2SU
END:DAYLIGHT
BEGIN:STANDARD
TZOFFSETFROM:-0700
TZOFFSETTO:-0800
TZNAME:PST
DTSTART:19701101T020000
RRULE:FREQ=YEARLY;BYMONTH=11;BYDAY=1SU
END:STANDARD
END:VTIMEZONE
BEGIN:VEVENT
UID:1464587:Event:118115
DTSTAMP:20260420T085147Z
SUMMARY:Richie Panic @supperclubSF
DESCRIPTION:Featuring 3 Areas of HOUSE//ELECTRO\\DUBSTEP:+ + RICHIE PA
 NIC + +\nLEON GOTHAM : ZERO EXCUSE PLAN B :: ZAK-L :: JULES JONESTHE 
 JINXX SHOW : ONE SOURCE ALKEMIZE:NANO SAGE:DYRECKTONEZIE SCOTT::OC JO
 NS::BASSICRAPHELLE ANDREWS :: DJ ROUSH\nand many more\n\n+watch the tr
 ailer: http://youtu.be/w8M_HpLF-2M\n\n\n+3 areas, 18 acts, 1 electric
  night+unparalleled sound, lighting, and effects+SF's top gogo's and p
 erformers+filming for the 'Love of Art' +on call massage therapist+re
 edic drink specials+champagne giveaways+2 fully stocked bars+Moopi Cha
 mpagne Challenge+one big room full of bad bitches\n\n\n\n\n+website sp
 ecial: RSVP at http://lelandpro.com/ to get in for $3===============
 ==================- -$10 without RSVP - - 21+ event - - 9pm-2am- - ==
 ===============================\n\nFor more information visit http://t
 rueskool.com/events/richie-panic-supperclubsf
DTSTART;TZID=America/Los_Angeles:20120505T210000
DTEND;TZID=America/Los_Angeles:20120506T020000
CATEGORIES:"bay area", "san francisco"
LOCATION:Supperclub SF, San Francisco, California
WEBSITE:http://lelandpro.com/
URL:http://lelandpro.com/
CONTACT:415 342 8853
ORGANIZER:LelandPro
ATTACH;FMTTYPE="image/jpeg":http://storage.ning.com/topology/rest/1.0/
 file/get/2247912913?profile=original
ATTENDEE;ROLE=REQ-PARTICIPANT;PARTSTAT=ACCEPTED;RSVP=TRUE;CN="sam arro
 w":http://trueskool.com/profile/samarrow
END:VEVENT
END:VCALENDAR
