BEGIN:VCALENDAR
PRODID:NingEventWidget-v1
VERSION:2.0
METHOD:PUBLISH
BEGIN:VTIMEZONE
TZID:America/Los_Angeles
X-LIC-LOCATION:America/Los_Angeles
BEGIN:DAYLIGHT
TZOFFSETFROM:-0800
TZOFFSETTO:-0700
TZNAME:PDT
DTSTART:19700308T020000
RRULE:FREQ=YEARLY;BYMONTH=3;BYDAY=2SU
END:DAYLIGHT
BEGIN:STANDARD
TZOFFSETFROM:-0700
TZOFFSETTO:-0800
TZNAME:PST
DTSTART:19701101T020000
RRULE:FREQ=YEARLY;BYMONTH=11;BYDAY=1SU
END:STANDARD
END:VTIMEZONE
BEGIN:VEVENT
UID:1464587:Event:297559
DTSTAMP:20260421T041053Z
SUMMARY:Rich MEDINA + King BRITT + Terence NANCE + J BOOGIE - FRI (1/3
 1)
DESCRIPTION:The houses of Top Ten Social, fresco, and Yerba Buena Cent
 er for the Arts' Future Soul Think Tank are uniting to bring soul head
 s from all sides of the bay together for one spectacular performance. 
  RICH WHO?!? is coming to San Francisco's MIGHTY for the first time to
  celebrate the birthdays of Michael Orange + Jacobo Juarez.. Expect a 
 spectacular night of visceral transmissions and soulful pulses featuri
 ng resident dj RICH MEDINA + special guests dj/producer KING BRITT + f
 ilm director/projectionist TERENCE NANCE + dj/producer J BOOGIE + host
 ed by FRAN BOOGIE! All events at Mighty are 21+.\n\nFor more informat
 ion visit http://trueskool.com/events/rich-medina-king-britt-terence-n
 ance-j-boogie-fri-1-31
DTSTART;TZID=America/Los_Angeles:20140131T210000
DTEND;TZID=America/Los_Angeles:20140201T030000
CATEGORIES:san, francisco, bay, area, california
LOCATION:Mighty, San Francisco
WEBSITE:http://www.eventbrite.com/e/rich-medina-king-britt-terence-nan
 ce-j-boogie-fri-131-tickets-10070694719
URL:http://www.eventbrite.com/e/rich-medina-king-britt-terence-nance-j
 -boogie-fri-131-tickets-10070694719
CONTACT:
ORGANIZER:Mighty SF
ATTACH;FMTTYPE="image/jpeg":http://storage.ning.com/topology/rest/1.0/
 file/get/2247955630?profile=original
ATTENDEE;ROLE=REQ-PARTICIPANT;PARTSTAT=ACCEPTED;RSVP=TRUE;CN="Alexandr
 a Alden":http://trueskool.com/profile/AlexandraAlden
END:VEVENT
END:VCALENDAR
