BEGIN:VCALENDAR
PRODID:NingEventWidget-v1
VERSION:2.0
METHOD:PUBLISH
BEGIN:VTIMEZONE
TZID:America/Los_Angeles
X-LIC-LOCATION:America/Los_Angeles
BEGIN:DAYLIGHT
TZOFFSETFROM:-0800
TZOFFSETTO:-0700
TZNAME:PDT
DTSTART:19700308T020000
RRULE:FREQ=YEARLY;BYMONTH=3;BYDAY=2SU
END:DAYLIGHT
BEGIN:STANDARD
TZOFFSETFROM:-0700
TZOFFSETTO:-0800
TZNAME:PST
DTSTART:19701101T020000
RRULE:FREQ=YEARLY;BYMONTH=11;BYDAY=1SU
END:STANDARD
END:VTIMEZONE
BEGIN:VEVENT
UID:1464587:Event:57518
DTSTAMP:20260421T095542Z
SUMMARY:Red Bull Big Tune San Francisco - June 4th - DNA Lounge (ALL A
 GES)
DESCRIPTION:Red Bull Big Tune San Francisco\n\nHead to Head Producer B
 attle Featuring\n\nDJ Toomp\nRick Rock\n\nSpecial Performance from Sha
 bazz Palaces\n\nHosted by Vitamin D, J. Moore and Jake One\n\nDV One o
 n the Turntables\n\nALL AGES\n\n$5 Charity Donation Entry\n\nTo RSVP a
 nd REGISTER Log On to:\n\nwww.redbullbigtune.com\n\nFor more informati
 on visit http://trueskool.com/events/red-bull-big-tune-san-1
DTSTART;TZID=America/Los_Angeles:20100604T200000
DTEND;TZID=America/Los_Angeles:20100605T010000
CATEGORIES:hiphop
LOCATION:DNA Lounge, San Francisco, CA
WEBSITE:
URL:
CONTACT:
ORGANIZER;CN="Karim aka Nightclubber Lang":http://trueskool.com/profil
 e/KarimakaNightclubberLang
ATTACH;FMTTYPE="image/jpeg":http://storage.ning.com/topology/rest/1.0/
 file/get/2247878379?profile=original
ATTENDEE;ROLE=REQ-PARTICIPANT;PARTSTAT=ACCEPTED;RSVP=TRUE;CN="Karim ak
 a Nightclubber Lang":http://trueskool.com/profile/KarimakaNightclubber
 Lang
END:VEVENT
END:VCALENDAR
